BEGIN:VCALENDAR
VERSION:2.0
PRODID:-//OIV Herrensohr - ECPv6.15.14//NONSGML v1.0//EN
CALSCALE:GREGORIAN
METHOD:PUBLISH
X-ORIGINAL-URL:https://www.oiv-herrensohr.de
X-WR-CALDESC:Veranstaltungen für OIV Herrensohr
REFRESH-INTERVAL;VALUE=DURATION:PT1H
X-Robots-Tag:noindex
X-PUBLISHED-TTL:PT1H
BEGIN:VTIMEZONE
TZID:Europe/Berlin
BEGIN:DAYLIGHT
TZOFFSETFROM:+0100
TZOFFSETTO:+0200
TZNAME:CEST
DTSTART:20230326T010000
END:DAYLIGHT
BEGIN:STANDARD
TZOFFSETFROM:+0200
TZOFFSETTO:+0100
TZNAME:CET
DTSTART:20231029T010000
END:STANDARD
BEGIN:DAYLIGHT
TZOFFSETFROM:+0100
TZOFFSETTO:+0200
TZNAME:CEST
DTSTART:20240331T010000
END:DAYLIGHT
BEGIN:STANDARD
TZOFFSETFROM:+0200
TZOFFSETTO:+0100
TZNAME:CET
DTSTART:20241027T010000
END:STANDARD
BEGIN:DAYLIGHT
TZOFFSETFROM:+0100
TZOFFSETTO:+0200
TZNAME:CEST
DTSTART:20250330T010000
END:DAYLIGHT
BEGIN:STANDARD
TZOFFSETFROM:+0200
TZOFFSETTO:+0100
TZNAME:CET
DTSTART:20251026T010000
END:STANDARD
END:VTIMEZONE
BEGIN:VEVENT
DTSTART;TZID=Europe/Berlin:20240907T160000
DTEND;TZID=Europe/Berlin:20240907T160000
DTSTAMP:20260421T194406
CREATED:20240825T115040Z
LAST-MODIFIED:20240825T115040Z
UID:2834-1725724800-1725724800@www.oiv-herrensohr.de
SUMMARY:15. Kaltnaggischer Garagenfest
DESCRIPTION:
URL:https://www.oiv-herrensohr.de/veranstaltung/15-kaltnaggischer-garagenfest/
LOCATION:Garagenplatz Dorfmitte\, Marktstraße 7a\, Herrensohr\, 66125\, Deutschland
CATEGORIES:Fest
ATTACH;FMTTYPE=image/jpeg:https://www.oiv-herrensohr.de/wp-content/uploads/2024/08/453746981_7894709907250301_5339708287071432551_n.jpg
ORGANIZER;CN="Kaltnaggischer Gardistencorps (KGC)":MAILTO:kgc.herrensohr@gmail.com
END:VEVENT
BEGIN:VEVENT
DTSTART;TZID=Europe/Berlin:20240908T100000
DTEND;TZID=Europe/Berlin:20240908T170000
DTSTAMP:20260421T194406
CREATED:20240824T175219Z
LAST-MODIFIED:20240824T175219Z
UID:2831-1725789600-1725814800@www.oiv-herrensohr.de
SUMMARY:Kreuzkirche Herrensohr: Tag des offenen Denkmals 2024
DESCRIPTION:10-17 Uhr – Kreuzkirche Herrensohr \n10 Uhr Gottesdienst zur Eröffnung des Tag des offenen Denkmals 2024 \n11-17 Uhr \n\nWissenswertes über Herrensohr und die Kreuzkirche\nFotoausstellung „Die Kreuzkirche im Wandel der Jahreszeiten”\nErfrischungen\n\n15 Uhr Orgelpräsentation
URL:https://www.oiv-herrensohr.de/veranstaltung/kreuzkirche-herrensohr-tag-des-offenen-denkmals-2024/
LOCATION:Kreuzkirche Herrensohr\, Johannesstraße 33\, Saarbrücken\, Saarland\, 66125\, Deutschland
CATEGORIES:Andacht/Gottesdienst,Fest,Tag der offenen Tür
ATTACH;FMTTYPE=image/jpeg:https://www.oiv-herrensohr.de/wp-content/uploads/2024/08/image.jpeg
ORGANIZER;CN="evangelische Kirchengemeinde Dudweiler/Herrensohr":MAILTO:info@kirchengemeinde-dudweiler.de
END:VEVENT
BEGIN:VEVENT
DTSTART;TZID=Europe/Berlin:20240914T180000
DTEND;TZID=Europe/Berlin:20240914T210000
DTSTAMP:20260421T194406
CREATED:20240525T215251Z
LAST-MODIFIED:20240525T215251Z
UID:2706-1726336800-1726347600@www.oiv-herrensohr.de
SUMMARY:LUCKY RANDOM
DESCRIPTION:Live-Musik mit Lucky Random
URL:https://www.oiv-herrensohr.de/veranstaltung/lucky-random/
LOCATION:Dachsbau-Ranch\, In den Kurzen Rödern 73b\, Saarbrücken-Dudweiler\, Saarland\, 66125\, Deutschland
CATEGORIES:Konzert
ATTACH;FMTTYPE=image/jpeg:https://www.oiv-herrensohr.de/wp-content/uploads/2024/05/image.jpg
END:VEVENT
BEGIN:VEVENT
DTSTART;TZID=Europe/Berlin:20240915T100000
DTEND;TZID=Europe/Berlin:20240915T110000
DTSTAMP:20260421T194406
CREATED:20240914T081211Z
LAST-MODIFIED:20240914T210108Z
UID:2885-1726394400-1726398000@www.oiv-herrensohr.de
SUMMARY:Rundfunkgottesdienst SR
DESCRIPTION:Evangelischer Rundfunkgottesdienst\, produziert vom Saarländischen Rundfunk\, übertragen auf SR2 Kulturradio
URL:https://www.oiv-herrensohr.de/veranstaltung/rundfunkgottesdienst-sr/
LOCATION:Kreuzkirche Herrensohr\, Johannesstraße 33\, Saarbrücken\, Saarland\, 66125\, Deutschland
CATEGORIES:Andacht/Gottesdienst
ORGANIZER;CN="evangelische Kirchengemeinde Dudweiler/Herrensohr":MAILTO:info@kirchengemeinde-dudweiler.de
END:VEVENT
BEGIN:VEVENT
DTSTART;TZID=Europe/Berlin:20240921T140000
DTEND;TZID=Europe/Berlin:20240921T233000
DTSTAMP:20260421T194406
CREATED:20240717T175900Z
LAST-MODIFIED:20240717T175900Z
UID:2800-1726927200-1726961400@www.oiv-herrensohr.de
SUMMARY:6. Oktoberfest
DESCRIPTION:Der Schützenverein Hubertus Herrensohr feirst sein mittlerweile traditionelles Oktoberfest in diesem Jahr bereits zum 6. Mal am Schützenhaus in Herrensohr (Ende Karlstraße\, oberhalb Grundschule und kath. Kirche). \nSie bieten ein geheiztes Festzelt. Tischreservierung ist möglich unter Tel. 0174 88 79 911 \nAb 14:00h Kaffee & Kuchen.  \nAb 17:00h kostet der Eintritt 5 €. \nAb 20:00h spielen Tom & Friends.
URL:https://www.oiv-herrensohr.de/veranstaltung/6-oktoberfest/
LOCATION:Schützenhaus Herrensohr\, Karlstraße\, Herrensohr\, Saarland\, 66125
CATEGORIES:Fest
ORGANIZER;CN="Sch%C3%BCtzenverein Hubertus Herrensohr":MAILTO:mailto:vorstand@hubertusherrensohr.de
END:VEVENT
BEGIN:VEVENT
DTSTART;TZID=Europe/Berlin:20240929T160000
DTEND;TZID=Europe/Berlin:20240929T170000
DTSTAMP:20260421T194406
CREATED:20240914T211025Z
LAST-MODIFIED:20240914T211025Z
UID:2891-1727625600-1727629200@www.oiv-herrensohr.de
SUMMARY:Erntedankgottesdienst bei den Schwarznasenschsfen
DESCRIPTION:Gottesdienst bei den Freunden der Schwarznasenschafen. \nAnfahrt Sulzbachtalstraße Höhe Bushaltestelle/Fußgängerüberweg Wilhelmshöhe 
URL:https://www.oiv-herrensohr.de/veranstaltung/erntedankgottesdienst-bei-den-schwarznasenschsfen/
LOCATION:Wiesental/Herrensohrer Wiesen\, Wilhelmshöhe/Sulzbachtalstraße\, Herrensohr\, 66125\, Deutschland
CATEGORIES:Andacht/Gottesdienst
ATTACH;FMTTYPE=image/jpeg:https://www.oiv-herrensohr.de/wp-content/uploads/2024/09/IMG_2317.jpeg
ORGANIZER;CN="evangelische Kirchengemeinde Dudweiler/Herrensohr":MAILTO:info@kirchengemeinde-dudweiler.de
END:VEVENT
END:VCALENDAR