BEGIN:VCALENDAR
VERSION:2.0
PRODID:-//OIV Herrensohr - ECPv6.15.14//NONSGML v1.0//EN
CALSCALE:GREGORIAN
METHOD:PUBLISH
X-ORIGINAL-URL:https://www.oiv-herrensohr.de
X-WR-CALDESC:Veranstaltungen für OIV Herrensohr
REFRESH-INTERVAL;VALUE=DURATION:PT1H
X-Robots-Tag:noindex
X-PUBLISHED-TTL:PT1H
BEGIN:VTIMEZONE
TZID:Europe/Berlin
BEGIN:DAYLIGHT
TZOFFSETFROM:+0100
TZOFFSETTO:+0200
TZNAME:CEST
DTSTART:20220327T010000
END:DAYLIGHT
BEGIN:STANDARD
TZOFFSETFROM:+0200
TZOFFSETTO:+0100
TZNAME:CET
DTSTART:20221030T010000
END:STANDARD
BEGIN:DAYLIGHT
TZOFFSETFROM:+0100
TZOFFSETTO:+0200
TZNAME:CEST
DTSTART:20230326T010000
END:DAYLIGHT
BEGIN:STANDARD
TZOFFSETFROM:+0200
TZOFFSETTO:+0100
TZNAME:CET
DTSTART:20231029T010000
END:STANDARD
BEGIN:DAYLIGHT
TZOFFSETFROM:+0100
TZOFFSETTO:+0200
TZNAME:CEST
DTSTART:20240331T010000
END:DAYLIGHT
BEGIN:STANDARD
TZOFFSETFROM:+0200
TZOFFSETTO:+0100
TZNAME:CET
DTSTART:20241027T010000
END:STANDARD
END:VTIMEZONE
BEGIN:VEVENT
DTSTART;TZID=Europe/Berlin:20230607T170000
DTEND;TZID=Europe/Berlin:20230607T190000
DTSTAMP:20260422T234617
CREATED:20230531T183908Z
LAST-MODIFIED:20230531T184042Z
UID:2181-1686157200-1686164400@www.oiv-herrensohr.de
SUMMARY:OB Conradt lädt zum Zukunftsdialog in Herrensohr und Jägersfreude ein
DESCRIPTION:Oberbürgermeister Uwe Conradt lädt am Mittwoch\, 7. Juni\, ab 17 Uhr zu einem Zukunftsdialog mit den Bürgerinnen und Bürgern in Herrensohr und Jägersfreude ein. \nTreffpunkt ist das Clubheim des TuS Herrensohr (Herrensohrer Weg 10\, 66125 Saarbrücken). \nBei diesem Treffen erfahren wir auf direktem Weg\, was die Menschen vor Ort bewegt. \nDie Bürgerinnen und Bürger haben bei der Veranstaltung Gelegenheit\, mitzuteilen\, was sie sich für ihren Stadtteil sowie die Gesamtstadt in den kommenden Jahren wünschen\, welche Ideen sie haben und wie sie sich selbst einbringen möchten. Außerdem wird es darum gehen\, welche konkreten Maßnahmen in den nächsten Jahren in Herrensohr und Jägersfreude umgesetzt werden sollen. \nOberbürgermeister Uwe Conradt: „Ich freue mich auf Vorschläge\, Anregungen und kritische Hinweise der Bürgerinnen und Bürger in Herrensohr und Jägersfreude. Bei diesem Treffen erfahren wir auf direktem Weg\, was die Menschen vor Ort bewegt. Alle Interessierten sind herzlich eingeladen\, vorbeizukommen\, sich zu beteiligen und die Zukunft ihres Stadtteils mitzugestalten.“
URL:https://www.oiv-herrensohr.de/veranstaltung/ob-cinradt-laedt-zum-zukunftsdialog-in-herrensohr-und-jaegersfreude-ein/
LOCATION:TuS-Clubheim\, Herrensohrer Weg 10\, Saarbrücken\, Saarland\, 66125\, Deutschland
CATEGORIES:Informationsveranstaltung,Workshop
END:VEVENT
END:VCALENDAR