BEGIN:VCALENDAR
VERSION:2.0
PRODID:-//OIV Herrensohr - ECPv6.15.14//NONSGML v1.0//EN
CALSCALE:GREGORIAN
METHOD:PUBLISH
X-WR-CALNAME:OIV Herrensohr
X-ORIGINAL-URL:https://www.oiv-herrensohr.de
X-WR-CALDESC:Veranstaltungen für OIV Herrensohr
REFRESH-INTERVAL;VALUE=DURATION:PT1H
X-Robots-Tag:noindex
X-PUBLISHED-TTL:PT1H
BEGIN:VTIMEZONE
TZID:Europe/Berlin
BEGIN:DAYLIGHT
TZOFFSETFROM:+0100
TZOFFSETTO:+0200
TZNAME:CEST
DTSTART:20220327T010000
END:DAYLIGHT
BEGIN:STANDARD
TZOFFSETFROM:+0200
TZOFFSETTO:+0100
TZNAME:CET
DTSTART:20221030T010000
END:STANDARD
BEGIN:DAYLIGHT
TZOFFSETFROM:+0100
TZOFFSETTO:+0200
TZNAME:CEST
DTSTART:20230326T010000
END:DAYLIGHT
BEGIN:STANDARD
TZOFFSETFROM:+0200
TZOFFSETTO:+0100
TZNAME:CET
DTSTART:20231029T010000
END:STANDARD
BEGIN:DAYLIGHT
TZOFFSETFROM:+0100
TZOFFSETTO:+0200
TZNAME:CEST
DTSTART:20240331T010000
END:DAYLIGHT
BEGIN:STANDARD
TZOFFSETFROM:+0200
TZOFFSETTO:+0100
TZNAME:CET
DTSTART:20241027T010000
END:STANDARD
END:VTIMEZONE
BEGIN:VEVENT
DTSTART;TZID=Europe/Berlin:20230203T190000
DTEND;TZID=Europe/Berlin:20230203T210000
DTSTAMP:20260423T073640
CREATED:20230114T130843Z
LAST-MODIFIED:20230114T130843Z
UID:2044-1675450800-1675458000@www.oiv-herrensohr.de
SUMMARY:48. Abendmusik
DESCRIPTION:Liebe und Freundschaft – Flötenrezital \nMusik von R. Schumann\, C. Widor und P. Taffanel \n  \nDante Montoya\, Querflöte   \nYumi Oster\, Orgel und Klavier \n  \nEintritt frei
URL:https://www.oiv-herrensohr.de/veranstaltung/48-abendmusik/
LOCATION:Kreuzkirche Herrensohr\, Johannesstraße 33\, Saarbrücken\, Saarland\, 66125\, Deutschland
CATEGORIES:Konzert
ORGANIZER;CN="evangelische Kirchengemeinde Dudweiler/Herrensohr":MAILTO:info@kirchengemeinde-dudweiler.de
END:VEVENT
BEGIN:VEVENT
DTSTART;TZID=Europe/Berlin:20230207T190000
DTEND;TZID=Europe/Berlin:20230207T203000
DTSTAMP:20260423T073640
CREATED:20230205T224401Z
LAST-MODIFIED:20230205T224919Z
UID:2071-1675796400-1675801800@www.oiv-herrensohr.de
SUMMARY:Informationsveranstaltung Glasfaserausbau
DESCRIPTION:Die Deutsche Glasfaser lädt gemeinsam mit der Landeshauptstadt und dem Stadtbezirk zur Informationsveranstaltung zum Glasfaserausbau in Dudweiler. 
URL:https://www.oiv-herrensohr.de/veranstaltung/informationsveranstaltung-glasfaser/
LOCATION:Bürgerhaus Dudweiler\, Am Markt 115\, Saarbrücken-Dudweiler\, 66125\, Deutschland
CATEGORIES:Informationsveranstaltung
END:VEVENT
BEGIN:VEVENT
DTSTART;TZID=Europe/Berlin:20230208T190000
DTEND;TZID=Europe/Berlin:20230208T203000
DTSTAMP:20260423T073640
CREATED:20230205T224845Z
LAST-MODIFIED:20230205T224845Z
UID:2074-1675882800-1675888200@www.oiv-herrensohr.de
SUMMARY:Informationsveranstaltung Glasfaserausbau
DESCRIPTION:Die Deutsche Glasfaser lädt gemeinsam mit der Landeshauptstadt und dem Stadtbezirk zur Informationsveranstaltung zum Glasfaserausbau in Dudweiler. 
URL:https://www.oiv-herrensohr.de/veranstaltung/informationsveranstaltung-glasfaserausbau/
LOCATION:Bürgerhaus Dudweiler\, Am Markt 115\, Saarbrücken-Dudweiler\, 66125\, Deutschland
CATEGORIES:Informationsveranstaltung
END:VEVENT
END:VCALENDAR