BEGIN:VCALENDAR
VERSION:2.0
PRODID:-//OIV Herrensohr - ECPv6.15.14//NONSGML v1.0//EN
CALSCALE:GREGORIAN
METHOD:PUBLISH
X-WR-CALNAME:OIV Herrensohr
X-ORIGINAL-URL:https://www.oiv-herrensohr.de
X-WR-CALDESC:Veranstaltungen für OIV Herrensohr
REFRESH-INTERVAL;VALUE=DURATION:PT1H
X-Robots-Tag:noindex
X-PUBLISHED-TTL:PT1H
BEGIN:VTIMEZONE
TZID:Europe/Berlin
BEGIN:DAYLIGHT
TZOFFSETFROM:+0100
TZOFFSETTO:+0200
TZNAME:CEST
DTSTART:20240331T010000
END:DAYLIGHT
BEGIN:STANDARD
TZOFFSETFROM:+0200
TZOFFSETTO:+0100
TZNAME:CET
DTSTART:20241027T010000
END:STANDARD
BEGIN:DAYLIGHT
TZOFFSETFROM:+0100
TZOFFSETTO:+0200
TZNAME:CEST
DTSTART:20250330T010000
END:DAYLIGHT
BEGIN:STANDARD
TZOFFSETFROM:+0200
TZOFFSETTO:+0100
TZNAME:CET
DTSTART:20251026T010000
END:STANDARD
BEGIN:DAYLIGHT
TZOFFSETFROM:+0100
TZOFFSETTO:+0200
TZNAME:CEST
DTSTART:20260329T010000
END:DAYLIGHT
BEGIN:STANDARD
TZOFFSETFROM:+0200
TZOFFSETTO:+0100
TZNAME:CET
DTSTART:20261025T010000
END:STANDARD
END:VTIMEZONE
BEGIN:VEVENT
DTSTART;TZID=Europe/Berlin:20251107T190000
DTEND;TZID=Europe/Berlin:20251107T213000
DTSTAMP:20260421T124412
CREATED:20251102T151902Z
LAST-MODIFIED:20251102T151902Z
UID:3335-1762542000-1762551000@www.oiv-herrensohr.de
SUMMARY:74. Abendmusik in der Kreuzkirche
DESCRIPTION:« Les amis de Monsieur Napoléon Coste » \nMusik für Oboe und Gitarre \nStücke von Ferdinand Rebay\, Astor Piazzolla\, Jacques Ibert und Napoléon Coste Nassir Jeremie Yassin (Gitarre)\, Walther Theisohn (Oboe) \nEintritt frei – Spende erbeten – Kreuzkirche Herrensohr\, Johannesstr. 33 \n  \nEvangelische Gesamtgemeinde Fischbach-Sulzbachtal\, Bereichsgemeinde Dudweiler / Herrensohr
URL:https://www.oiv-herrensohr.de/veranstaltung/74-abendmusik-in-der-kreuzkirche/
LOCATION:Kreuzkirche Herrensohr\, Johannesstraße 33\, Saarbrücken\, Saarland\, 66125\, Deutschland
CATEGORIES:Konzert,Veranstaltung
ORGANIZER;CN="evangelische Kirchengemeinde Dudweiler/Herrensohr":MAILTO:info@kirchengemeinde-dudweiler.de
END:VEVENT
BEGIN:VEVENT
DTSTART;TZID=Europe/Berlin:20251129T140000
DTEND;TZID=Europe/Berlin:20251129T220000
DTSTAMP:20260421T124412
CREATED:20250430T053956Z
LAST-MODIFIED:20251119T210737Z
UID:3036-1764424800-1764453600@www.oiv-herrensohr.de
SUMMARY:47. Kaltnaggischer Weihnachtsmarkt
DESCRIPTION:Pressemitteilung zum 47. Kaltnaggischer Weihnachtsmarkt\n47. Kaltnaggischer Weihnachtsmarkt \nProgramm\n13:30 Turmbläser kündigen den Weihnachtsmarkt vom Turm der Kreuzkirche aus an \n14:00 ökumenische Andacht mit Posaunenchor\, Darbietung der Erstklässler\, Grußworten und Besuch des Nikolauses \n15:00 Öffnung der Stände\, Beginn Musikprogramm \n15:00 Posaunenchor (Park)\n15:30 Bläserklasse 7a (Park)\n16:00 Bläserklasse 8a (Park)\n16:30 Pause\n16:45 Männerchor (Kirche)\n17:15 Cäcilien-Chor (Kirche)\n17:45 Pause\n18:00 Blumen der Ukraine (Kirche)\n18:30 Formation Cantabile\, Mitsingkonzert Advents- und Weihnachtslieder (Kirche)\n19:15 Ende Konzertprogramm \n22:00 Ende \nWie in jedem Jahr können außerdem Lose für den Kaltnaggischen Adventskalender erworben werden\, dessen Erlös der lokalen Gemeinschaft zugutekommt. \nVereine und Gruppen\nAprès-Ski-Club\, Kaltnaggischer Gardistencorps\, Freiwillige Feuerwehr\, Freunde der Fußballjugend des TuS Herrensohr\, evangelische Kirchengemeinde\, Schäfchenfreunde Wiesental\, KiTa Herrensohr\, OIV Herrensohr \nAngebote der ausstellenden Hobby-Handwerker*innen\nEntdecken Sie handgefertigte Schätze! Von einem Bastelangebot um die Geschichte „Schnee für Kaltnaggisch“ über Jugendbücher bis hin zu Geschenken und Mitbringseln finden Sie hier etwas Besonderes. Stöbern Sie durch Karten\, Kerzen\, Bastel- und Handarbeiten sowie Dekoartikel für Ihr Zuhause. Für die kalte Jahreszeit bieten wir Strick- und Häkelwaren\, selbstgestrickte Strümpfe\, Kinderkleidung\, Mützen und Stulpen. Lassen Sie sich von gebrannten Mandeln und Gebäck verwöhnen. \n  \nSchauen Sie vorbei\, genießen Sie die stimmungsvolle Atmosphäre an und in der Kreuzkirche und lassen Sie sich inspirieren!
URL:https://www.oiv-herrensohr.de/veranstaltung/47-kaltnaggischer-weihnachtsmarkt/
LOCATION:Kreuzkirche Herrensohr\, Johannesstraße 33\, Saarbrücken\, Saarland\, 66125\, Deutschland
CATEGORIES:Andacht/Gottesdienst,Ankündigung,Fest,Veranstaltung
ATTACH;FMTTYPE=image/jpeg:https://www.oiv-herrensohr.de/wp-content/uploads/2025/04/2025-Plakat-Weihnachtsmarkt.jpg
END:VEVENT
END:VCALENDAR