BEGIN:VCALENDAR
VERSION:2.0
PRODID:-//OIV Herrensohr - ECPv6.15.14//NONSGML v1.0//EN
CALSCALE:GREGORIAN
METHOD:PUBLISH
X-ORIGINAL-URL:https://www.oiv-herrensohr.de
X-WR-CALDESC:Veranstaltungen für OIV Herrensohr
REFRESH-INTERVAL;VALUE=DURATION:PT1H
X-Robots-Tag:noindex
X-PUBLISHED-TTL:PT1H
BEGIN:VTIMEZONE
TZID:Europe/Berlin
BEGIN:DAYLIGHT
TZOFFSETFROM:+0100
TZOFFSETTO:+0200
TZNAME:CEST
DTSTART:20220327T010000
END:DAYLIGHT
BEGIN:STANDARD
TZOFFSETFROM:+0200
TZOFFSETTO:+0100
TZNAME:CET
DTSTART:20221030T010000
END:STANDARD
BEGIN:DAYLIGHT
TZOFFSETFROM:+0100
TZOFFSETTO:+0200
TZNAME:CEST
DTSTART:20230326T010000
END:DAYLIGHT
BEGIN:STANDARD
TZOFFSETFROM:+0200
TZOFFSETTO:+0100
TZNAME:CET
DTSTART:20231029T010000
END:STANDARD
BEGIN:DAYLIGHT
TZOFFSETFROM:+0100
TZOFFSETTO:+0200
TZNAME:CEST
DTSTART:20240331T010000
END:DAYLIGHT
BEGIN:STANDARD
TZOFFSETFROM:+0200
TZOFFSETTO:+0100
TZNAME:CET
DTSTART:20241027T010000
END:STANDARD
END:VTIMEZONE
BEGIN:VEVENT
DTSTART;TZID=Europe/Berlin:20231109T150000
DTEND;TZID=Europe/Berlin:20231109T170000
DTSTAMP:20260424T142617
CREATED:20231105T122703Z
LAST-MODIFIED:20231105T123250Z
UID:2361-1699542000-1699549200@www.oiv-herrensohr.de
SUMMARY:Ortstermin SaarForst
DESCRIPTION:SaarForst Landesbetrieb und OIV Herrensohr laden alle Interessierten zu einem Ortstermin im Herrensohrer Wald ein. Treffpunkt ist der Parkplatz vor dem Schützenhaus am Ende der Karlstraße.  \nThemen: \n\nVorstellung neuer Revierförster Manuel Mauermann\nErläuterung der Pläne für den Herrensohrer Wald\nVorstellung Pläne und erste Arbeitsergebnisse Neugestaltung Atzeplatz \n\nZur Pressemitteilung.
URL:https://www.oiv-herrensohr.de/veranstaltung/ortstermin-saarforst/
LOCATION:Schützenhaus Herrensohr\, Karlstraße\, Herrensohr\, Saarland\, 66125
CATEGORIES:Informationsveranstaltung
ORGANIZER;CN="OIV Herrensohr":MAILTO:info@oiv-herrensohr.de
END:VEVENT
END:VCALENDAR