BEGIN:VCALENDAR
VERSION:2.0
PRODID:-//OIV Herrensohr - ECPv6.15.14//NONSGML v1.0//EN
CALSCALE:GREGORIAN
METHOD:PUBLISH
X-ORIGINAL-URL:https://www.oiv-herrensohr.de
X-WR-CALDESC:Veranstaltungen für OIV Herrensohr
REFRESH-INTERVAL;VALUE=DURATION:PT1H
X-Robots-Tag:noindex
X-PUBLISHED-TTL:PT1H
BEGIN:VTIMEZONE
TZID:Europe/Berlin
BEGIN:DAYLIGHT
TZOFFSETFROM:+0100
TZOFFSETTO:+0200
TZNAME:CEST
DTSTART:20220327T010000
END:DAYLIGHT
BEGIN:STANDARD
TZOFFSETFROM:+0200
TZOFFSETTO:+0100
TZNAME:CET
DTSTART:20221030T010000
END:STANDARD
BEGIN:DAYLIGHT
TZOFFSETFROM:+0100
TZOFFSETTO:+0200
TZNAME:CEST
DTSTART:20230326T010000
END:DAYLIGHT
BEGIN:STANDARD
TZOFFSETFROM:+0200
TZOFFSETTO:+0100
TZNAME:CET
DTSTART:20231029T010000
END:STANDARD
BEGIN:DAYLIGHT
TZOFFSETFROM:+0100
TZOFFSETTO:+0200
TZNAME:CEST
DTSTART:20240331T010000
END:DAYLIGHT
BEGIN:STANDARD
TZOFFSETFROM:+0200
TZOFFSETTO:+0100
TZNAME:CET
DTSTART:20241027T010000
END:STANDARD
END:VTIMEZONE
BEGIN:VEVENT
DTSTART;TZID=Europe/Berlin:20230627T180000
DTEND;TZID=Europe/Berlin:20230627T210000
DTSTAMP:20260424T234200
CREATED:20230531T184738Z
LAST-MODIFIED:20230624T114121Z
UID:2184-1687888800-1687899600@www.oiv-herrensohr.de
SUMMARY:Bürgerworkshop Atzeplatzgestaltung
DESCRIPTION:Einladung zum Bürgerworkshop Atzeplatz in Herrensohr am 27.06.23 \n \nDer Ortsinteressenverein (OIV) Herrensohr lädt alle Interessengruppen und engagierte Bürgerinnen und Bürger herzlich zu einem Bürgerworkshop zur Neugestaltung des oberhalb des Ortes gelegenen Atzeplatzes ein. Gemeinsam möchten wir Ideen für die zukünftige Nutzung und Gestaltung entwickeln und möglichst weitgehend konkretisieren für eine Umsetzung mit dem SaarForst Landesbetrieb. \nDatum: Dienstag\, 27. Juni 2023\nUhrzeit: 18:00 – ca. 21:00 Uhr (17:00 h am Atzeplatz)\nVeranstaltungsort: Clubheim des TuS Herrensohr\, Herrensohrer Weg 10\, 66125 SB \nFür diejenigen\, die es einrichten können\, treffen wir uns bereits um 17:00 Uhr direkt auf dem Atzeplatz. Folgen Sie dem Waldweg in Verlängerung der Karlstraße in Herrensohr bergan zum Schützenhaus und biegen Sie dann links ab. \nDer OIV Herrensohr freut sich auf eine rege Beteiligung\, einen intensiven Ideenaustausch und konstruktiven Verlauf. Ihre Anwesenheit ist von großer Bedeutung\, da wir gemeinsam die Zukunft des Atzeplatzes gestalten möchten. \nWeitere Infos unter: www.oiv-herrensohr.de \nWeitere Infos
URL:https://www.oiv-herrensohr.de/veranstaltung/buergerworkshop-atzeplatzgestaltung/
LOCATION:TuS-Clubheim\, Herrensohrer Weg 10\, Saarbrücken\, Saarland\, 66125\, Deutschland
CATEGORIES:Workshop
ORGANIZER;CN="OIV Herrensohr":MAILTO:info@oiv-herrensohr.de
END:VEVENT
END:VCALENDAR