BEGIN:VCALENDAR
VERSION:2.0
PRODID:-//OIV Herrensohr - ECPv6.15.14//NONSGML v1.0//EN
CALSCALE:GREGORIAN
METHOD:PUBLISH
X-ORIGINAL-URL:https://www.oiv-herrensohr.de
X-WR-CALDESC:Veranstaltungen für OIV Herrensohr
REFRESH-INTERVAL;VALUE=DURATION:PT1H
X-Robots-Tag:noindex
X-PUBLISHED-TTL:PT1H
BEGIN:VTIMEZONE
TZID:Europe/Berlin
BEGIN:DAYLIGHT
TZOFFSETFROM:+0100
TZOFFSETTO:+0200
TZNAME:CEST
DTSTART:20220327T010000
END:DAYLIGHT
BEGIN:STANDARD
TZOFFSETFROM:+0200
TZOFFSETTO:+0100
TZNAME:CET
DTSTART:20221030T010000
END:STANDARD
BEGIN:DAYLIGHT
TZOFFSETFROM:+0100
TZOFFSETTO:+0200
TZNAME:CEST
DTSTART:20230326T010000
END:DAYLIGHT
BEGIN:STANDARD
TZOFFSETFROM:+0200
TZOFFSETTO:+0100
TZNAME:CET
DTSTART:20231029T010000
END:STANDARD
BEGIN:DAYLIGHT
TZOFFSETFROM:+0100
TZOFFSETTO:+0200
TZNAME:CEST
DTSTART:20240331T010000
END:DAYLIGHT
BEGIN:STANDARD
TZOFFSETFROM:+0200
TZOFFSETTO:+0100
TZNAME:CET
DTSTART:20241027T010000
END:STANDARD
END:VTIMEZONE
BEGIN:VEVENT
DTSTART;TZID=Europe/Berlin:20231207T093000
DTEND;TZID=Europe/Berlin:20231207T110000
DTSTAMP:20260424T064452
CREATED:20231204T080730Z
LAST-MODIFIED:20250420T204942Z
UID:2451-1701941400-1701946800@www.oiv-herrensohr.de
SUMMARY:Baumpflanzaktion Atzeplatz
DESCRIPTION:Nachdem die KiTa-Kinder mit dem SaarForst begonnen haben\, die Totholz-(Benjes-)Hecke aufzuschichten\, sind nun die Bäume eingetroffen\, die den Atzeplatz einrahmen sollen: Esskastanien und Walnuss sollen den Zuweg von der Brunnenstraße alleeartig markieren\, weitere Bäume werden punktuell um den Platz platziert. \nMitarbeiter des SaarForst Landesbetriebs haben bereits die ersten Bäume gepflanzt. Nun sollen in einer Gemeinschaftsaktion am \n \nDonnerstag\, 07.12.23\, ab 09:30h (diese Woche)\n \nweitere Bäume folgen. Alle Interessierten sind eingeladen\, an dem Termin die Mitarbeiter des Saarforstes tatkräftig zu unterstützen\, damit der Atzeplatz wieder zu „unserem Platz“ wird\, sei es beim Graben\, Einpflanzen oder dem Umlagern von Totholz aus der Platzmitte in die Benjeshecke. Da die beschafften Pflanzen bereits eine Wuchshöhe von ca. 1\,80 besitzen\, ist das Einpflanzen mit einem gewissen Aufwand verbunden und jede Unterstützung ist willkommen.\nDie Grundschule hat bereits mit zwei Klassen ihr Kommen angekündigt. 
URL:https://www.oiv-herrensohr.de/veranstaltung/baumpflanzaktion-atzeplatz/
LOCATION:Atzeplatz\, Karlstraße 64\, Saarbrücken-Herrensohr\, Saarland\, 66125
CATEGORIES:Aktion,Instandsetzung
ORGANIZER;CN="OIV Herrensohr":MAILTO:info@oiv-herrensohr.de
END:VEVENT
END:VCALENDAR