BEGIN:VCALENDAR
VERSION:2.0
PRODID:-//OIV Herrensohr - ECPv6.15.14//NONSGML v1.0//EN
CALSCALE:GREGORIAN
METHOD:PUBLISH
X-ORIGINAL-URL:https://www.oiv-herrensohr.de
X-WR-CALDESC:Veranstaltungen für OIV Herrensohr
REFRESH-INTERVAL;VALUE=DURATION:PT1H
X-Robots-Tag:noindex
X-PUBLISHED-TTL:PT1H
BEGIN:VTIMEZONE
TZID:Europe/Berlin
BEGIN:DAYLIGHT
TZOFFSETFROM:+0100
TZOFFSETTO:+0200
TZNAME:CEST
DTSTART:20240331T010000
END:DAYLIGHT
BEGIN:STANDARD
TZOFFSETFROM:+0200
TZOFFSETTO:+0100
TZNAME:CET
DTSTART:20241027T010000
END:STANDARD
BEGIN:DAYLIGHT
TZOFFSETFROM:+0100
TZOFFSETTO:+0200
TZNAME:CEST
DTSTART:20250330T010000
END:DAYLIGHT
BEGIN:STANDARD
TZOFFSETFROM:+0200
TZOFFSETTO:+0100
TZNAME:CET
DTSTART:20251026T010000
END:STANDARD
BEGIN:DAYLIGHT
TZOFFSETFROM:+0100
TZOFFSETTO:+0200
TZNAME:CEST
DTSTART:20260329T010000
END:DAYLIGHT
BEGIN:STANDARD
TZOFFSETFROM:+0200
TZOFFSETTO:+0100
TZNAME:CET
DTSTART:20261025T010000
END:STANDARD
END:VTIMEZONE
BEGIN:VEVENT
DTSTART;TZID=Europe/Berlin:20250606T190000
DTEND;TZID=Europe/Berlin:20250606T203000
DTSTAMP:20260419T170104
CREATED:20250524T201304Z
LAST-MODIFIED:20250524T201304Z
UID:3164-1749236400-1749241800@www.oiv-herrensohr.de
SUMMARY:71. Abendmusik in der Kreuzkirche
DESCRIPTION:„Doulce Mémoire“ – musikalische Erinnerung \nKonzert mit dem Blockflötenorchester „Pian‘ e Forte“ aus Kaiserslautern
URL:https://www.oiv-herrensohr.de/veranstaltung/71-abendmusik-in-der-kreuzkirche/
LOCATION:Kreuzkirche Herrensohr\, Johannesstraße 33\, Saarbrücken\, Saarland\, 66125\, Deutschland
CATEGORIES:Konzert,Veranstaltung
ATTACH;FMTTYPE=image/png:https://www.oiv-herrensohr.de/wp-content/uploads/2025/05/grafik.png
ORGANIZER;CN="evangelische Kirchengemeinde Dudweiler/Herrensohr":MAILTO:info@kirchengemeinde-dudweiler.de
END:VEVENT
BEGIN:VEVENT
DTSTART;TZID=Europe/Berlin:20250614T100000
DTEND;TZID=Europe/Berlin:20250614T130000
DTSTAMP:20260419T170104
CREATED:20250420T204122Z
LAST-MODIFIED:20250504T092013Z
UID:3085-1749895200-1749906000@www.oiv-herrensohr.de
SUMMARY:Tunnelreinigung
DESCRIPTION:Den Fußgängertunnel zwischen Herrensohr und dem Wiesental / Wilhelmshöhe ziert seit 2016 ein großflächiges Unterwassergraffito\, das vom OIV Herrensohr in einem aufwändigen Beteiligungsprozess unter künstlerischer Leitung von Pascal Herth gestaltet wurde.  \nDurch Witterungseinflüsse und Vandalismus\, der sich zum Glück in Grenzen hält\, wird das Graffito über die Zeit verunreinigt und geschädigt. Damit das Kunstwerk möglichst lange Jung und Alt erfreut und für eine angenehmere Durchquerung der Tunnelröhre sorgen kann\, führt der OIV von Zeit zu Zeit eine Reinigungsaktion durch\, in deren Nachgang Pascal Herth die beschädigten Stellen ausbessert.  \nAm 14. Juni 2025 ist es wieder soweit: der OIV Herrensohr lädt alle Herrensohrer zur Reinigung „ihres“ Fußgängertunnels ein. Die Jugendfeuerwehr Dudweiler hat bereits ihre Unterstützung zugesagt. Nach getaner Arbeit winkt jedem/jeder Teilnehmer/in ein Würstchen in geselliger Runde. Gerne melden Sie sich beim Vorsitzenden oder den Vorstandsmitgliedern an.  \nDer OIV Herrensohr freut sich auf tatkräftige Unterstützung!
URL:https://www.oiv-herrensohr.de/veranstaltung/tunnelreinigung-2/
LOCATION:Fußgängertunnel zum Wiesental\, oberhalb des Wiesentals (Zugang zwischen unterer Karlsstr. 1 und Marktstr. 1)\, Herrensohr\, 66125
CATEGORIES:Aktion,Instandsetzung
ATTACH;FMTTYPE=image/jpeg:https://www.oiv-herrensohr.de/wp-content/uploads/2025/04/2025-06-14-Tunnelreinigung-Plakat.jpg
ORGANIZER;CN="OIV Herrensohr":MAILTO:info@oiv-herrensohr.de
END:VEVENT
END:VCALENDAR