BEGIN:VCALENDAR
VERSION:2.0
PRODID:-//OIV Herrensohr - ECPv6.15.14//NONSGML v1.0//EN
CALSCALE:GREGORIAN
METHOD:PUBLISH
X-ORIGINAL-URL:https://www.oiv-herrensohr.de
X-WR-CALDESC:Veranstaltungen für OIV Herrensohr
REFRESH-INTERVAL;VALUE=DURATION:PT1H
X-Robots-Tag:noindex
X-PUBLISHED-TTL:PT1H
BEGIN:VTIMEZONE
TZID:Europe/Berlin
BEGIN:DAYLIGHT
TZOFFSETFROM:+0100
TZOFFSETTO:+0200
TZNAME:CEST
DTSTART:20230326T010000
END:DAYLIGHT
BEGIN:STANDARD
TZOFFSETFROM:+0200
TZOFFSETTO:+0100
TZNAME:CET
DTSTART:20231029T010000
END:STANDARD
BEGIN:DAYLIGHT
TZOFFSETFROM:+0100
TZOFFSETTO:+0200
TZNAME:CEST
DTSTART:20240331T010000
END:DAYLIGHT
BEGIN:STANDARD
TZOFFSETFROM:+0200
TZOFFSETTO:+0100
TZNAME:CET
DTSTART:20241027T010000
END:STANDARD
BEGIN:DAYLIGHT
TZOFFSETFROM:+0100
TZOFFSETTO:+0200
TZNAME:CEST
DTSTART:20250330T010000
END:DAYLIGHT
BEGIN:STANDARD
TZOFFSETFROM:+0200
TZOFFSETTO:+0100
TZNAME:CET
DTSTART:20251026T010000
END:STANDARD
END:VTIMEZONE
BEGIN:VEVENT
DTSTART;TZID=Europe/Berlin:20241206T190000
DTEND;TZID=Europe/Berlin:20241206T203000
DTSTAMP:20260420T040914
CREATED:20241116T203759Z
LAST-MODIFIED:20241116T203905Z
UID:2990-1733511600-1733517000@www.oiv-herrensohr.de
SUMMARY:65. Abendmusik
DESCRIPTION:Weihnachtliches Konzert Trompete und Orgel und Klavier. \nLeo Bachmann (Trompete) \nYumi Oster (Orgel und Klavier)
URL:https://www.oiv-herrensohr.de/veranstaltung/65-abendmusik/
LOCATION:Kreuzkirche Herrensohr\, Johannesstraße 33\, Saarbrücken\, Saarland\, 66125\, Deutschland
CATEGORIES:Konzert
ATTACH;FMTTYPE=image/jpeg:https://www.oiv-herrensohr.de/wp-content/uploads/2024/11/Musik-in-der-Kreuzkirche_65.jpg
ORGANIZER;CN="evangelische Kirchengemeinde Dudweiler/Herrensohr":MAILTO:info@kirchengemeinde-dudweiler.de
END:VEVENT
BEGIN:VEVENT
DTSTART;TZID=Europe/Berlin:20241215T100000
DTEND;TZID=Europe/Berlin:20241215T120000
DTSTAMP:20260420T040914
CREATED:20241229T174536Z
LAST-MODIFIED:20241229T174536Z
UID:3008-1734256800-1734264000@www.oiv-herrensohr.de
SUMMARY:Adventssammlung
DESCRIPTION:Sammlung von Konserven für die Tafel Saarbrücken e.V. in Herrensohr und Jägersfreude. \n  \nBitte Spenden gut sichtbar am Straßenrand platzieren\, die Dosen werden zwischen 10:00 und 12:00h abgeholt.  \nSeit 2008 wurden 17.072 Dosen gesammelt und weitergegeben; dies entspricht ca. 8.770 Kg Lebensmittel. Vielen Dank!
URL:https://www.oiv-herrensohr.de/veranstaltung/adventssammlung-2/
LOCATION:Herrensohr
CATEGORIES:Aktion,Sammlung
ORGANIZER;CN="Uwe Caspari":MAILTO:info@adventsammlung.de
END:VEVENT
END:VCALENDAR