BEGIN:VCALENDAR
VERSION:2.0
PRODID:-//OIV Herrensohr - ECPv6.15.14//NONSGML v1.0//EN
CALSCALE:GREGORIAN
METHOD:PUBLISH
X-ORIGINAL-URL:https://www.oiv-herrensohr.de
X-WR-CALDESC:Veranstaltungen für OIV Herrensohr
REFRESH-INTERVAL;VALUE=DURATION:PT1H
X-Robots-Tag:noindex
X-PUBLISHED-TTL:PT1H
BEGIN:VTIMEZONE
TZID:Europe/Berlin
BEGIN:DAYLIGHT
TZOFFSETFROM:+0100
TZOFFSETTO:+0200
TZNAME:CEST
DTSTART:20230326T010000
END:DAYLIGHT
BEGIN:STANDARD
TZOFFSETFROM:+0200
TZOFFSETTO:+0100
TZNAME:CET
DTSTART:20231029T010000
END:STANDARD
BEGIN:DAYLIGHT
TZOFFSETFROM:+0100
TZOFFSETTO:+0200
TZNAME:CEST
DTSTART:20240331T010000
END:DAYLIGHT
BEGIN:STANDARD
TZOFFSETFROM:+0200
TZOFFSETTO:+0100
TZNAME:CET
DTSTART:20241027T010000
END:STANDARD
BEGIN:DAYLIGHT
TZOFFSETFROM:+0100
TZOFFSETTO:+0200
TZNAME:CEST
DTSTART:20250330T010000
END:DAYLIGHT
BEGIN:STANDARD
TZOFFSETFROM:+0200
TZOFFSETTO:+0100
TZNAME:CET
DTSTART:20251026T010000
END:STANDARD
END:VTIMEZONE
BEGIN:VEVENT
DTSTART;TZID=Europe/Berlin:20240709T193000
DTEND;TZID=Europe/Berlin:20240709T210000
DTSTAMP:20260420T132856
CREATED:20240610T204008Z
LAST-MODIFIED:20240610T204008Z
UID:2767-1720553400-1720558800@www.oiv-herrensohr.de
SUMMARY:Mitgliederversammlung des Unterstützungsvereins (UVH)
DESCRIPTION:Der UVH lädt zur Mitgliederversammlung
URL:https://www.oiv-herrensohr.de/veranstaltung/mitgliederversammlung-des-unterstuetzungsvereins-uvh/
LOCATION:Gaststätte zum Schlösschen\, Talstraße 1\, Dudweiler-Herrensohr\, Saarland\, 66125\, Deutschland
CATEGORIES:Sitzung
ORGANIZER;CN="Unterst%C3%BCtzungsverein Herrensohr (UVH)":MAILTO:uwe-lackas@web.de
END:VEVENT
BEGIN:VEVENT
DTSTART;TZID=Europe/Berlin:20240713T164500
DTEND;TZID=Europe/Berlin:20240713T180000
DTSTAMP:20260420T132856
CREATED:20240610T203158Z
LAST-MODIFIED:20250809T161516Z
UID:2764-1720889100-1720893600@www.oiv-herrensohr.de
SUMMARY:Gedenkgottesdienst
DESCRIPTION:Gottesdienst zum Gedenken der Kriegstoten im 2. Weltkrieg anlässlich der Bombardierung von Herrensohr vor 80 Jahren am 16. Juli 1944.
URL:https://www.oiv-herrensohr.de/veranstaltung/gedenkgottesdienst/
LOCATION:Kirche St. Marien Herrensohr\, Karlstraße 64\, Herrensohr\, 66125\, Deutschland
CATEGORIES:Andacht/Gottesdienst
ORGANIZER;CN="katholische Kirchengemeinde":MAILTO:farrbuero.stmarien@googlemail.com
END:VEVENT
END:VCALENDAR