BEGIN:VCALENDAR
VERSION:2.0
PRODID:-//OIV Herrensohr - ECPv6.15.14//NONSGML v1.0//EN
CALSCALE:GREGORIAN
METHOD:PUBLISH
X-ORIGINAL-URL:https://www.oiv-herrensohr.de
X-WR-CALDESC:Veranstaltungen für OIV Herrensohr
REFRESH-INTERVAL;VALUE=DURATION:PT1H
X-Robots-Tag:noindex
X-PUBLISHED-TTL:PT1H
BEGIN:VTIMEZONE
TZID:Europe/Berlin
BEGIN:DAYLIGHT
TZOFFSETFROM:+0100
TZOFFSETTO:+0200
TZNAME:CEST
DTSTART:20230326T010000
END:DAYLIGHT
BEGIN:STANDARD
TZOFFSETFROM:+0200
TZOFFSETTO:+0100
TZNAME:CET
DTSTART:20231029T010000
END:STANDARD
BEGIN:DAYLIGHT
TZOFFSETFROM:+0100
TZOFFSETTO:+0200
TZNAME:CEST
DTSTART:20240331T010000
END:DAYLIGHT
BEGIN:STANDARD
TZOFFSETFROM:+0200
TZOFFSETTO:+0100
TZNAME:CET
DTSTART:20241027T010000
END:STANDARD
BEGIN:DAYLIGHT
TZOFFSETFROM:+0100
TZOFFSETTO:+0200
TZNAME:CEST
DTSTART:20250330T010000
END:DAYLIGHT
BEGIN:STANDARD
TZOFFSETFROM:+0200
TZOFFSETTO:+0100
TZNAME:CET
DTSTART:20251026T010000
END:STANDARD
END:VTIMEZONE
BEGIN:VEVENT
DTSTART;TZID=Europe/Berlin:20240601T140000
DTEND;TZID=Europe/Berlin:20240601T230000
DTSTAMP:20260420T152813
CREATED:20240525T220113Z
LAST-MODIFIED:20240525T220113Z
UID:2716-1717250400-1717282800@www.oiv-herrensohr.de
SUMMARY:Musikfest der Schalmeien
DESCRIPTION:Liebe Musikfreunde\, \nam 1. Juni feiern wir unser Musikfest der Schalmeien im Stadtpark\nDudweiler. Um 14:00 Uhr starten wir mit einem bunten Programm aus\nmusikalischen Beiträgen unserer befreundeten Vereine. \nIm vergangenen Jahr haben wir das erst einmal „im Kleinen“ ausprobiert\,\nmit nur drei Gastvereinen. In diesem Jahr bauen wir aus\, daher wird das\nProgramm aus zwölf Beiträgen aus zehn Vereinen gestrickt\, mit einem\nkrönenden Abschluss durch Axel Fisherman Schweizer\, der das\nAbendprogramm gestalten wird. \nUm circa 16 Uhr werden wir mit unsem Schalmeienorchester selbst einen\nProgrammbeitrag leisten\, das kombinieren wir mit den Ehrungen unserer\nverdienten und langjährigen Mitglieder. Auch hierzu insbesondere sind\nalle herzlich eingeladen\, dem beizuwohnen und diejenigen zu feiern\, die\nseit vielen Jahren den Verein unterstützen. \nNatürlich muss bei uns niemand verhungern oder verdursten: Neben unserem\nbekannten Kaffee- und Kuchenprogramm könnt ihr aus einem breiten Progrmm\naus Kaltgetränken wählen\, direkt daneben gibt es Rostwurst\, Currywurst\nund Pommes. \nEinige von den hier angeschriebenen sind sowieso vor Ort\, als Teil des\nProgrammes\, wofür wir uns natürlich herzlich bedanken. Alle Anderen sind\ndazu Eingeladen den Samstag\, bei hoffentlich bestem Wetter im Stadtpark\nDudweiler zu verbringen und als unsere Gäste mit uns zu feiern. \nWir freuen uns schon sehr auf unser Fest und auf euer kommen. \nSchalmeien- und Kulturverein Dudweiler e.V.
URL:https://www.oiv-herrensohr.de/veranstaltung/musikfest-der-schalmeien/
LOCATION:Stadtpark Dudweiler\, Stadtpark Dudweiler St Ingberter Straße 28\, Dudweiler\, Saarland\, 66125\, Deutschland
CATEGORIES:Fest,Konzert
ATTACH;FMTTYPE=image/png:https://www.oiv-herrensohr.de/wp-content/uploads/2024/05/image.png
ORGANIZER;CN="Schalmeienorchester":MAILTO:vorstand@schalmeien-dudweiler.de
END:VEVENT
BEGIN:VEVENT
DTSTART;TZID=Europe/Berlin:20240607T190000
DTEND;TZID=Europe/Berlin:20240607T203000
DTSTAMP:20260420T152813
CREATED:20240525T214404Z
LAST-MODIFIED:20240525T214404Z
UID:2700-1717786800-1717792200@www.oiv-herrensohr.de
SUMMARY:61. Abendmusik
DESCRIPTION:STREICHELEINHEITEN \nKamil Zawadzki\, Violine \nPaweł Mirowski\, Violoncello \nEintritt frei
URL:https://www.oiv-herrensohr.de/veranstaltung/61-abendmusik/
LOCATION:Kreuzkirche Herrensohr\, Johannesstraße 33\, Saarbrücken\, Saarland\, 66125\, Deutschland
CATEGORIES:Konzert
ATTACH;FMTTYPE=image/jpeg:https://www.oiv-herrensohr.de/wp-content/uploads/2024/05/Musik_in_der_Kreuzkirche_61_breit.jpg
ORGANIZER;CN="evangelische Kirchengemeinde Dudweiler/Herrensohr":MAILTO:info@kirchengemeinde-dudweiler.de
END:VEVENT
BEGIN:VEVENT
DTSTART;TZID=Europe/Berlin:20240615T140000
DTEND;TZID=Europe/Berlin:20240615T233000
DTSTAMP:20260420T152813
CREATED:20240525T214335Z
LAST-MODIFIED:20240525T214335Z
UID:2703-1718460000-1718494200@www.oiv-herrensohr.de
SUMMARY:Keulenfest mit Bürgerschießen
DESCRIPTION:Sommerfest des Schützenvereins Hubertus Herrensohr
URL:https://www.oiv-herrensohr.de/veranstaltung/keulenfest-mit-buergerschiessen/
LOCATION:Schützenhaus Herrensohr\, Karlstraße\, Herrensohr\, Saarland\, 66125
CATEGORIES:Fest,Sportveranstaltung
ATTACH;FMTTYPE=image/jpeg:https://www.oiv-herrensohr.de/wp-content/uploads/2024/05/Keulenfest_2024.jpg
ORGANIZER;CN="Sch%C3%BCtzenverein Hubertus Herrensohr":MAILTO:mailto:vorstand@hubertusherrensohr.de
END:VEVENT
BEGIN:VEVENT
DTSTART;TZID=Europe/Berlin:20240622T170000
DTEND;TZID=Europe/Berlin:20240622T200000
DTSTAMP:20260420T152813
CREATED:20240408T190323Z
LAST-MODIFIED:20240616T174525Z
UID:2552-1719075600-1719086400@www.oiv-herrensohr.de
SUMMARY:OIV Herrensohr e.V.: Mitgliederversammlung mit Vereinsfest
DESCRIPTION:Die Mitgliederversammlung des Ortsinteressenverein Herrensohr findet statt am mit einem kleinen Vereinsfest statt am  \nSamstag\, 22.06.24 ab 17:00h in den Räumlichkeiten der Freiwilligen Feuerwehr statt.  \nFür Speis und Getränk ist gesorgt. \nDetails wie insbesondere die Tagesordnung der Sitzung werden rechtzeitg bekannt gegeben. 
URL:https://www.oiv-herrensohr.de/veranstaltung/oiv-herrensohr-e-v-mitgliederversammlung-mit-vereinsfest/
LOCATION:Feuerwehrgerätehaus Herrensohr\, Petrusstraße 18\, Saarbrücken-Herrensohr\, Saarland\, 66125\, Deutschland
CATEGORIES:Sitzung
ORGANIZER;CN="OIV Herrensohr":MAILTO:info@oiv-herrensohr.de
END:VEVENT
BEGIN:VEVENT
DTSTART;TZID=Europe/Berlin:20240623T170000
DTEND;TZID=Europe/Berlin:20240623T180000
DTSTAMP:20260420T152813
CREATED:20240610T205154Z
LAST-MODIFIED:20240610T205424Z
UID:2777-1719162000-1719165600@www.oiv-herrensohr.de
SUMMARY:Familiengottesdienst mit Tieren
DESCRIPTION:Die ev. Kirchengemeinde lädt zu den Schwarznasenschafen ins  Wiesental ein.
URL:https://www.oiv-herrensohr.de/veranstaltung/familiengottesdienst-mit-tieren/
LOCATION:Wiesental/Herrensohrer Wiesen\, Wilhelmshöhe/Sulzbachtalstraße\, Herrensohr\, 66125\, Deutschland
CATEGORIES:Andacht/Gottesdienst
ATTACH;FMTTYPE=image/jpeg:https://www.oiv-herrensohr.de/wp-content/uploads/2024/06/447634258_3798773477025157_5869734253898686378_n.jpg
ORGANIZER;CN="evangelische Kirchengemeinde Dudweiler/Herrensohr":MAILTO:info@kirchengemeinde-dudweiler.de
END:VEVENT
BEGIN:VEVENT
DTSTART;TZID=Europe/Berlin:20240629T120000
DTEND;TZID=Europe/Berlin:20240630T200000
DTSTAMP:20260420T152813
CREATED:20240610T205303Z
LAST-MODIFIED:20240610T210006Z
UID:2772-1719662400-1719777600@www.oiv-herrensohr.de
SUMMARY:Feuerwehr Herrensohr: Tag der offenen Tür
DESCRIPTION:
URL:https://www.oiv-herrensohr.de/veranstaltung/feuerwehr-herrensohr-tag-der-offenen-tuer/
LOCATION:Feuerwehrgerätehaus Herrensohr\, Petrusstraße 18\, Saarbrücken-Herrensohr\, Saarland\, 66125\, Deutschland
CATEGORIES:Fest,Tag der offenen Tür
ATTACH;FMTTYPE=image/jpeg:https://www.oiv-herrensohr.de/wp-content/uploads/2024/06/447523286_8171736189505734_1219389977540722915_n.jpg
ORGANIZER;CN="Freiwillige Feuerwehr Dudweiler%2C L%C3%B6schbezirk Herrensohr-J%C3%A4gersfreude":MAILTO:loeschbezirksfuehrer@feuerwehr-dudweiler.de
END:VEVENT
END:VCALENDAR