BEGIN:VCALENDAR
VERSION:2.0
PRODID:-//OIV Herrensohr - ECPv6.15.14//NONSGML v1.0//EN
CALSCALE:GREGORIAN
METHOD:PUBLISH
X-ORIGINAL-URL:https://www.oiv-herrensohr.de
X-WR-CALDESC:Veranstaltungen für OIV Herrensohr
REFRESH-INTERVAL;VALUE=DURATION:PT1H
X-Robots-Tag:noindex
X-PUBLISHED-TTL:PT1H
BEGIN:VTIMEZONE
TZID:Europe/Berlin
BEGIN:DAYLIGHT
TZOFFSETFROM:+0100
TZOFFSETTO:+0200
TZNAME:CEST
DTSTART:20230326T010000
END:DAYLIGHT
BEGIN:STANDARD
TZOFFSETFROM:+0200
TZOFFSETTO:+0100
TZNAME:CET
DTSTART:20231029T010000
END:STANDARD
BEGIN:DAYLIGHT
TZOFFSETFROM:+0100
TZOFFSETTO:+0200
TZNAME:CEST
DTSTART:20240331T010000
END:DAYLIGHT
BEGIN:STANDARD
TZOFFSETFROM:+0200
TZOFFSETTO:+0100
TZNAME:CET
DTSTART:20241027T010000
END:STANDARD
BEGIN:DAYLIGHT
TZOFFSETFROM:+0100
TZOFFSETTO:+0200
TZNAME:CEST
DTSTART:20250330T010000
END:DAYLIGHT
BEGIN:STANDARD
TZOFFSETFROM:+0200
TZOFFSETTO:+0100
TZNAME:CET
DTSTART:20251026T010000
END:STANDARD
END:VTIMEZONE
BEGIN:VEVENT
DTSTART;VALUE=DATE:20240501
DTEND;VALUE=DATE:20240502
DTSTAMP:20260420T170637
CREATED:20240410T192753Z
LAST-MODIFIED:20240410T192858Z
UID:2576-1714521600-1714607999@www.oiv-herrensohr.de
SUMMARY:Anmeldeschluss für Stände zum Kaltnaggischer Dorfflohmarkt
DESCRIPTION:Bis zum 01. Mai können sich Herrensohrerinnen und Herrensohrer zum Dorfflohmarkt anmelden.  \nweitere Infos zum Kaltnaggischer Dorfflohmarkt \nFormular Anmeldung zum 1. Kaltnaggischer Dorfflohmarkt für Verkäufer*innen \nTermineintrag
URL:https://www.oiv-herrensohr.de/veranstaltung/anmeldeschluss-fuer-staende-zum-kaltnaggischer-dorfflohmarkt/
LOCATION:Herrensohr
CATEGORIES:Ankündigung,Anmeldeschluss
ATTACH;FMTTYPE=image/jpeg:https://www.oiv-herrensohr.de/wp-content/uploads/2024/04/2024-04-Dorfflohmarkt-Plakat-klein.jpg
ORGANIZER;CN="OIV Herrensohr":MAILTO:info@oiv-herrensohr.de
END:VEVENT
BEGIN:VEVENT
DTSTART;TZID=Europe/Berlin:20240503T190000
DTEND;TZID=Europe/Berlin:20240503T190000
DTSTAMP:20260420T170637
CREATED:20240423T170624Z
LAST-MODIFIED:20240423T170624Z
UID:2599-1714762800-1714762800@www.oiv-herrensohr.de
SUMMARY:Abendmusik
DESCRIPTION:Concerto per organo \n  \nFrancesco Cardelli (HfM) spielt Werke von Marchand\, Muffat\, Bach\, Strawinsky und Essl. \nEintritt frei
URL:https://www.oiv-herrensohr.de/veranstaltung/abendmusik/
LOCATION:Kreuzkirche Herrensohr\, Johannesstraße 33\, Saarbrücken\, Saarland\, 66125\, Deutschland
CATEGORIES:Konzert
ORGANIZER;CN="evangelische Kirchengemeinde Dudweiler/Herrensohr":MAILTO:info@kirchengemeinde-dudweiler.de
END:VEVENT
BEGIN:VEVENT
DTSTART;VALUE=DATE:20240509
DTEND;VALUE=DATE:20240512
DTSTAMP:20260420T170637
CREATED:20240408T184646Z
LAST-MODIFIED:20240508T205917Z
UID:2546-1715212800-1715471999@www.oiv-herrensohr.de
SUMMARY:1. Frühlingsgaragenfest
DESCRIPTION:Do\, 09.05.24 ab 10:00h\, Frühschoppen \nDo\, 09.05.24\, 11:00h offizielle Eröffnung \nFr\, 10.05.24 ab 16:00h \nSa\, 11.05.24\, ab 14:00h \nSa\, 11.05.24\, 12:00-18:00h: 1. Kaltnaggischer Dorfflohmarkt \nFür das leibliche Wohl ist gesorgt. 
URL:https://www.oiv-herrensohr.de/veranstaltung/1-fruehlingsgaragenfest/
LOCATION:Garagenplatz Dorfmitte\, Marktstraße 7a\, Herrensohr\, 66125\, Deutschland
CATEGORIES:Fest
ATTACH;FMTTYPE=image/jpeg:https://www.oiv-herrensohr.de/wp-content/uploads/2024/04/441049682_7454688071252489_8330659600343111792_n.jpg
ORGANIZER;CN="Kaltnaggischer Gardistencorps (KGC)":MAILTO:kgc.herrensohr@gmail.com
END:VEVENT
BEGIN:VEVENT
DTSTART;TZID=Europe/Berlin:20240509T110000
DTEND;TZID=Europe/Berlin:20240509T140000
DTSTAMP:20260420T170637
CREATED:20240508T212838Z
LAST-MODIFIED:20240510T161616Z
UID:2672-1715252400-1715263200@www.oiv-herrensohr.de
SUMMARY:Himmelfahrtsgottesdienst
DESCRIPTION:An Christi Himmelfahrt llädt die evangelische Kirchengemeinde Dudweiler/Herrensohr zu einem Gottesdienst mit anschließendem Schwenken im Pfarrgarten ein. 
URL:https://www.oiv-herrensohr.de/veranstaltung/himmelefahrtsgottesdienst-mit-grillen/
LOCATION:Kreuzkirche Herrensohr\, Johannesstraße 33\, Saarbrücken\, Saarland\, 66125\, Deutschland
CATEGORIES:Andacht/Gottesdienst,Fest
ORGANIZER;CN="evangelische Kirchengemeinde Dudweiler/Herrensohr":MAILTO:info@kirchengemeinde-dudweiler.de
END:VEVENT
BEGIN:VEVENT
DTSTART;TZID=Europe/Berlin:20240511T120000
DTEND;TZID=Europe/Berlin:20240511T180000
DTSTAMP:20260420T170637
CREATED:20240408T185427Z
LAST-MODIFIED:20240508T205631Z
UID:2514-1715428800-1715450400@www.oiv-herrensohr.de
SUMMARY:1. Kaltnaggischer Dorfflohmarkt
DESCRIPTION:Für Samstag\, 11. Mai 2024 von 12:00 bis 18:00h lädt der OIV Herrensohr erstmals zum  Kaltnaggischer Dorfflohmarkt ein. Alle Einwohnerinnen und Einwohner von Herrensohr sind eingeladen\, auf ihrem Grundstück private Gegenstände zum Verkauf anzubieten. \nEin ganzer Stadtteil macht sich auf und kommt ins Gespräch! \nHier sind die Standorte der Flohmarktstände zu finden. \nStandorte beim 1.Kaltnaggischer Dorfflohmarkt 11.05.24\, 12-18h \n  \nMelden Sie auf der Webseite des OIV Herrensohr Ihren Stand bis zum 01.05.24 kostenfrei an\, bauen Sie Ihren Stand direkt in Ihrer Garage\, im Vorgarten\, in der Einfahrt oder der Haustür auf und kommen Sie mit den vorbeiflanierenden Mitbürgerinnen und Mitbürgern ins Gespräch. Vielleicht können Sie ja auch etwas tauschen? \nWeitere Details und Anmeldung von Ständen bis 01.05.24 unter: https://www.oiv-herrensohr.de/projekte/kaltnaggischer-dorfflohmarkt
URL:https://www.oiv-herrensohr.de/veranstaltung/1-kaltnaggischer-dorfflohmarkt/
LOCATION:Herrensohr
CATEGORIES:Aktion,Flohmarkt
ATTACH;FMTTYPE=image/jpeg:https://www.oiv-herrensohr.de/wp-content/uploads/2024/04/2024-04-Dorfflohmarkt-Plakat-Besucher-klein.jpg
ORGANIZER;CN="OIV Herrensohr":MAILTO:info@oiv-herrensohr.de
END:VEVENT
BEGIN:VEVENT
DTSTART;TZID=Europe/Berlin:20240515T180000
DTEND;TZID=Europe/Berlin:20240515T193000
DTSTAMP:20260420T170637
CREATED:20240501T185641Z
LAST-MODIFIED:20240501T221404Z
UID:2620-1715796000-1715801400@www.oiv-herrensohr.de
SUMMARY:2. Runder Tisch Herrensohrer Vereine\, Institutionen und Organisationen
DESCRIPTION:Der OIV Herrensohr lädt zum 2. Runder Tisch Herrensohrer Vereine ein.  \nWir möchten den Austausch des 1. Runder Tisch fortsetzen. \nzur Ankündigung \n\nBitte um Mithilfe!\nWir sammeln über Kontaktformulare die Kontaktdaten und regelmäßigen Termine der Herrensohrer Vereine\, Organisationen\, Institutionen und Gruppen zur Veröffentlichung: \n– Kontaktdaten Herrensohrer Vereine\, Institutionen und Organisationen:\nhttps://www.oiv-herrensohr.de/wissenswertes-ueber-herrensohr/vereine-in-herrensohr/freigabe-kontaktdaten-herrensohrer-vereine \n– regelmäßig wiederkehrende Termine von Vereinen und Gruppen:\nhttps://www.oiv-herrensohr.de/wissenswertes-ueber-herrensohr/vereine-in-herrensohr/regelmaessige-termine-herrensohrer-vereine-und-einrichtungen
URL:https://www.oiv-herrensohr.de/veranstaltung/2-runder-tisch-herrensohrer-vereine-institutionen-und-organisationen/
LOCATION:TuS-Clubheim\, Herrensohrer Weg 10\, Saarbrücken\, Saarland\, 66125\, Deutschland
CATEGORIES:Austausch,Sitzung
ORGANIZER;CN="OIV Herrensohr":MAILTO:info@oiv-herrensohr.de
END:VEVENT
END:VCALENDAR