BEGIN:VCALENDAR
VERSION:2.0
PRODID:-//OIV Herrensohr - ECPv6.15.14//NONSGML v1.0//EN
CALSCALE:GREGORIAN
METHOD:PUBLISH
X-ORIGINAL-URL:https://www.oiv-herrensohr.de
X-WR-CALDESC:Veranstaltungen für OIV Herrensohr
REFRESH-INTERVAL;VALUE=DURATION:PT1H
X-Robots-Tag:noindex
X-PUBLISHED-TTL:PT1H
BEGIN:VTIMEZONE
TZID:Europe/Berlin
BEGIN:DAYLIGHT
TZOFFSETFROM:+0100
TZOFFSETTO:+0200
TZNAME:CEST
DTSTART:20220327T010000
END:DAYLIGHT
BEGIN:STANDARD
TZOFFSETFROM:+0200
TZOFFSETTO:+0100
TZNAME:CET
DTSTART:20221030T010000
END:STANDARD
BEGIN:DAYLIGHT
TZOFFSETFROM:+0100
TZOFFSETTO:+0200
TZNAME:CEST
DTSTART:20230326T010000
END:DAYLIGHT
BEGIN:STANDARD
TZOFFSETFROM:+0200
TZOFFSETTO:+0100
TZNAME:CET
DTSTART:20231029T010000
END:STANDARD
BEGIN:DAYLIGHT
TZOFFSETFROM:+0100
TZOFFSETTO:+0200
TZNAME:CEST
DTSTART:20240331T010000
END:DAYLIGHT
BEGIN:STANDARD
TZOFFSETFROM:+0200
TZOFFSETTO:+0100
TZNAME:CET
DTSTART:20241027T010000
END:STANDARD
END:VTIMEZONE
BEGIN:VEVENT
DTSTART;TZID=Europe/Berlin:20230901T190000
DTEND;TZID=Europe/Berlin:20230901T203000
DTSTAMP:20260421T074945
CREATED:20230830T175629Z
LAST-MODIFIED:20230830T175629Z
UID:2312-1693594800-1693600200@www.oiv-herrensohr.de
SUMMARY:52. Abendmusik
DESCRIPTION:Orgelkonzert mit Johannes Bernhard Bernarding
URL:https://www.oiv-herrensohr.de/veranstaltung/52-abendmusik/
LOCATION:Kreuzkirche Herrensohr\, Johannesstraße 33\, Saarbrücken\, Saarland\, 66125\, Deutschland
CATEGORIES:Konzert
ATTACH;FMTTYPE=image/jpeg:https://www.oiv-herrensohr.de/wp-content/uploads/2023/08/362284178_265236219579204_8823547965910949354_n.jpg
ORGANIZER;CN="evangelische Kirchengemeinde Dudweiler/Herrensohr":MAILTO:info@kirchengemeinde-dudweiler.de
END:VEVENT
BEGIN:VEVENT
DTSTART;VALUE=DATE:20230902
DTEND;VALUE=DATE:20230904
DTSTAMP:20260421T074945
CREATED:20230830T180103Z
LAST-MODIFIED:20230830T180103Z
UID:2315-1693612800-1693785599@www.oiv-herrensohr.de
SUMMARY:14. Garagenfest
DESCRIPTION:
URL:https://www.oiv-herrensohr.de/veranstaltung/14-garagenfest/
LOCATION:Garagenplatz Dorfmitte\, Marktstraße 7a\, Herrensohr\, 66125\, Deutschland
CATEGORIES:Fest
ATTACH;FMTTYPE=image/jpeg:https://www.oiv-herrensohr.de/wp-content/uploads/2023/08/371811830_6481710761883563_1480294474772890461_n.jpg
ORGANIZER;CN="Kaltnaggischer Gardistencorps (KGC)":MAILTO:kgc.herrensohr@gmail.com
END:VEVENT
BEGIN:VEVENT
DTSTART;TZID=Europe/Berlin:20230902T130000
DTEND;TZID=Europe/Berlin:20230902T180000
DTSTAMP:20260421T074945
CREATED:20230831T180717Z
LAST-MODIFIED:20230831T180717Z
UID:2321-1693659600-1693677600@www.oiv-herrensohr.de
SUMMARY:Eröffnung Seniorentreff "Plauderstübchen"
DESCRIPTION:Einladung \nNeuer Treffpunkt für Seniorinnen und Senioren in Dudweiler \nAm 02.September 2023\, von 13:00 bis 18:00 Uhr feiern wir die \nEröffnung des Seniorentreffs \nPlauderstübchen \nAm Markt 2 (ehemalige Villa Birkenmeier)\, in Dudweiler. \nDas Plauderstübchen soll ein Treffpunkt für Seniorinnen und Senioren werden. Zwangloses Miteinander\, spielen\, basteln\, oder einfach nur miteinander plaudern. Neue soziale Kontakte knüpfen\, oder alte Kontakte neu aufleben lassen. \nAn drei Tagen in der Woche wird das Plauderstübchen für alle Seniorinnen und Senioren geöffnet sein. Jeweils von 13:00 bis 18:00 Uhr steht die Tür offen. \nEhrenamtliche Helferinnen und Helfer stehen bereit\, den älteren Herrschaften einen angenehmen und unterhaltsamen Aufenthalt zu bereiten\, sich bei einer Tasse Kaffee\, oder anderen nichtalkoholischen Getränken (kostenlos\, oder gegen eine kleine Spende)\, wohl zu fühlen. \nDas Plauderstübchen soll ein weiterer Beitrag zur Seniorenarbeit in Dudweiler sein. \nDie Pusteblume Trauerbegleitung e.V. fungiert dabei als Träger der Einrichtung\, gemäss den Satzungen des Vereins. \nWir freuen uns sehr\, wenn Sie der Eröffnung beiwohnen und damit zum Erfolg des Plauderstübchens beitragen. \nFür Ihr leibliches Wohl wird bestens gesorgt sein. \nEllen Renner & Axel Göritz
URL:https://www.oiv-herrensohr.de/veranstaltung/eroeffnung-seniorentreff-plauderstuebchen/
LOCATION:Villa Birkenmeier\, Am Markt 2\, Dudweiler\, Saarland\, 66125\, Deutschland
CATEGORIES:Empfang
ORGANIZER;CN="Pusteblume-Trauerbegleitung e.V.":MAILTO:pusteblume-trauerbegleitung@gmx.de
END:VEVENT
BEGIN:VEVENT
DTSTART;TZID=Europe/Berlin:20230916T140000
DTEND;TZID=Europe/Berlin:20230916T235900
DTSTAMP:20260421T074945
CREATED:20230830T185702Z
LAST-MODIFIED:20230831T175006Z
UID:2318-1694872800-1694908740@www.oiv-herrensohr.de
SUMMARY:5. Oktoberfest
DESCRIPTION:
URL:https://www.oiv-herrensohr.de/veranstaltung/5-oktoberfest/
LOCATION:Schützenhaus Herrensohr\, Karlstraße\, Herrensohr\, Saarland\, 66125
CATEGORIES:Fest
ORGANIZER;CN="Sch%C3%BCtzenverein Hubertus Herrensohr":MAILTO:mailto:vorstand@hubertusherrensohr.de
END:VEVENT
BEGIN:VEVENT
DTSTART;TZID=Europe/Berlin:20230928T180000
DTEND;TZID=Europe/Berlin:20230928T190000
DTSTAMP:20260421T074945
CREATED:20230917T115550Z
LAST-MODIFIED:20230917T115810Z
UID:2331-1695924000-1695927600@www.oiv-herrensohr.de
SUMMARY:Planungstreffen Weihnachtsmarkt (für Vereine)
DESCRIPTION:Liebe Ansprechpartner*innen in den Herrensohrer Vereinen und Institutionen\, \nBald ist es wieder soweit. Am Samstag vor dem 1. Advent (02.12.23) können wir wieder unseren beliebten Kaltnaggischer Weihnachtsmarkt feiern\, nun bereits in seiner 45. Ausgabe! Der OIV Herrensohr dankt der evangelischen Kirchengemeinde\, dass wir wieder die Kreuzkirche und die anschließende Wiese als stimmungsvolle Kulisse für den Markt nutzen können. Wir wollen auf den bewährten Mix aus Andacht\, kulinarischem Angebot der Vereine\, musikalischem Konzertprogramm und Verkauf selbstgestalteter weihnachtlicher Artikel setzen. \nIm Namen des OIV Herrensohr lade ich Sie herzlich ein\, sich am Weihnachtsmarkt mit einem attraktiven Angebot für unsere Besucher*innen einzubringen. Nutzen Sie zur Anmeldung bitte das beiliegende Anmeldeformular und melden sich bis spätestens 30.09.23 unter den oben angegeben Adressen per eMail-Anhang\, Fax oder Briefeinwurf an.  \nZur Planung und Abstimmung möchten wir Sie zu einem Treffen einladen am  \n28.09.23\, um 18:00h Uhr\nin der evangelischen Kreuzkirche\, Johannesstraße 33\, Herrensohr \nDer Vorstand des OIV Herrensohr freut sich über euren/Ihren Beitrag! \nGlück auf!  \nDr. Markus Ehses \n  \nAnmeldeformular Weihnachtsmarkt 2023
URL:https://www.oiv-herrensohr.de/veranstaltung/planungstreffen-weihnachtsmarkt-fuer-vereine/
LOCATION:Kreuzkirche Herrensohr\, Johannesstraße 33\, Saarbrücken\, Saarland\, 66125\, Deutschland
CATEGORIES:Informationsveranstaltung,Sitzung
ORGANIZER;CN="evangelische Kirchengemeinde Dudweiler/Herrensohr":MAILTO:info@kirchengemeinde-dudweiler.de
END:VEVENT
BEGIN:VEVENT
DTSTART;TZID=Europe/Berlin:20230928T193000
DTEND;TZID=Europe/Berlin:20230928T203000
DTSTAMP:20260421T074945
CREATED:20230917T115945Z
LAST-MODIFIED:20230917T120017Z
UID:2335-1695929400-1695933000@www.oiv-herrensohr.de
SUMMARY:Planungstreffen Weihnachtsmarkt (für Kunsthandwerk)
DESCRIPTION:Sehr geehrte Damen und Herren\, liebe Kreativen\, \nBald ist es wieder soweit. Am Samstag vor dem 1. Advent (02.12.23) können wir wieder unseren beliebten Kaltnaggischer Weihnachtsmarkt feiern\, nun bereits in seiner 45. Ausgabe! Der OIV Herrensohr dankt der evangelischen Kirchengemeinde\, dass wir wieder die Kreuzkirche und die anschließende Wiese als stimmungsvolle Kulisse für den Markt zu Beginn der Adventszeit nutzen können. Wir wollen auf den bewährten Mix aus Andacht\, kulinarischem Angebot der Vereine\, musikalischem Konzertprogramm und Verkauf selbstgestalteter weihnachtlicher Artikel setzen. \nIm Namen des OIV Herrensohr lade ich Sie herzlich ein\, sich am Weihnachtsmarkt mit einem attraktiven Angebot für unsere Besucher*innen einzubringen. Nutzen Sie zur Anmeldung bitte das beiliegende Anmeldeformular und melden sich bis spätestens 30.09.23 unter den oben angegeben Adressen per eMail-Anhang\, Fax oder Briefeinwurf an. Wir freuen uns auf Ihre kreativen Ideen und kunsthandwerklich hergestellten Artikel. \nZur Planung und Abstimmung möchten wir Sie zu einem Treffen einladen am  \n28.09.23\, um 19:30h Uhr\nin der evangelischen Kreuzkirche\, Johannesstraße 33\, Herrensohr \nWir wären Ihnen dankbar\, wenn Sie kurz zurückmelden ob Sie an dem Planungstreffen teilnehmen werden. Der Vorstand des OIV Herrensohr freut sich über Ihren Beitrag! \nGlück auf!  \nDr. Markus Ehses \n  \nAnmeldeformular Weihnachtsmarkt 2023
URL:https://www.oiv-herrensohr.de/veranstaltung/planungstreffen-weihnachtsmarkt-fuer-verkaeuferinnen/
LOCATION:Kreuzkirche Herrensohr\, Johannesstraße 33\, Saarbrücken\, Saarland\, 66125\, Deutschland
CATEGORIES:Informationsveranstaltung,Sitzung
ORGANIZER;CN="OIV Herrensohr":MAILTO:info@oiv-herrensohr.de
END:VEVENT
END:VCALENDAR