BEGIN:VCALENDAR
VERSION:2.0
PRODID:-//OIV Herrensohr - ECPv6.15.14//NONSGML v1.0//EN
CALSCALE:GREGORIAN
METHOD:PUBLISH
X-ORIGINAL-URL:https://www.oiv-herrensohr.de
X-WR-CALDESC:Veranstaltungen für OIV Herrensohr
REFRESH-INTERVAL;VALUE=DURATION:PT1H
X-Robots-Tag:noindex
X-PUBLISHED-TTL:PT1H
BEGIN:VTIMEZONE
TZID:Europe/Berlin
BEGIN:DAYLIGHT
TZOFFSETFROM:+0100
TZOFFSETTO:+0200
TZNAME:CEST
DTSTART:20220327T010000
END:DAYLIGHT
BEGIN:STANDARD
TZOFFSETFROM:+0200
TZOFFSETTO:+0100
TZNAME:CET
DTSTART:20221030T010000
END:STANDARD
BEGIN:DAYLIGHT
TZOFFSETFROM:+0100
TZOFFSETTO:+0200
TZNAME:CEST
DTSTART:20230326T010000
END:DAYLIGHT
BEGIN:STANDARD
TZOFFSETFROM:+0200
TZOFFSETTO:+0100
TZNAME:CET
DTSTART:20231029T010000
END:STANDARD
BEGIN:DAYLIGHT
TZOFFSETFROM:+0100
TZOFFSETTO:+0200
TZNAME:CEST
DTSTART:20240331T010000
END:DAYLIGHT
BEGIN:STANDARD
TZOFFSETFROM:+0200
TZOFFSETTO:+0100
TZNAME:CET
DTSTART:20241027T010000
END:STANDARD
END:VTIMEZONE
BEGIN:VEVENT
DTSTART;TZID=Europe/Berlin:20230718T180000
DTEND;TZID=Europe/Berlin:20230718T200000
DTSTAMP:20260421T113759
CREATED:20230612T204222Z
LAST-MODIFIED:20240501T215907Z
UID:2222-1689703200-1689710400@www.oiv-herrensohr.de
SUMMARY:Runder Tisch Herrensohrer Vereine und Organisationen
DESCRIPTION:Austausch der in Herrensohr tätigen und ansässigen Vereine\, Institutionen und Organisationen.  \n  \nweitere Informationen und Einladung
URL:https://www.oiv-herrensohr.de/veranstaltung/runder-tisch-herrensohrer-vereine-und-organisationen/
LOCATION:TuS-Clubheim\, Herrensohrer Weg 10\, Saarbrücken\, Saarland\, 66125\, Deutschland
CATEGORIES:Austausch,Sitzung,Workshop
ORGANIZER;CN="OIV Herrensohr":MAILTO:info@oiv-herrensohr.de
END:VEVENT
END:VCALENDAR