BEGIN:VCALENDAR
VERSION:2.0
PRODID:-//OIV Herrensohr - ECPv6.15.14//NONSGML v1.0//EN
CALSCALE:GREGORIAN
METHOD:PUBLISH
X-ORIGINAL-URL:https://www.oiv-herrensohr.de
X-WR-CALDESC:Veranstaltungen für OIV Herrensohr
REFRESH-INTERVAL;VALUE=DURATION:PT1H
X-Robots-Tag:noindex
X-PUBLISHED-TTL:PT1H
BEGIN:VTIMEZONE
TZID:Europe/Berlin
BEGIN:DAYLIGHT
TZOFFSETFROM:+0100
TZOFFSETTO:+0200
TZNAME:CEST
DTSTART:20220327T010000
END:DAYLIGHT
BEGIN:STANDARD
TZOFFSETFROM:+0200
TZOFFSETTO:+0100
TZNAME:CET
DTSTART:20221030T010000
END:STANDARD
BEGIN:DAYLIGHT
TZOFFSETFROM:+0100
TZOFFSETTO:+0200
TZNAME:CEST
DTSTART:20230326T010000
END:DAYLIGHT
BEGIN:STANDARD
TZOFFSETFROM:+0200
TZOFFSETTO:+0100
TZNAME:CET
DTSTART:20231029T010000
END:STANDARD
BEGIN:DAYLIGHT
TZOFFSETFROM:+0100
TZOFFSETTO:+0200
TZNAME:CEST
DTSTART:20240331T010000
END:DAYLIGHT
BEGIN:STANDARD
TZOFFSETFROM:+0200
TZOFFSETTO:+0100
TZNAME:CET
DTSTART:20241027T010000
END:STANDARD
END:VTIMEZONE
BEGIN:VEVENT
DTSTART;TZID=Europe/Berlin:20230304T080000
DTEND;TZID=Europe/Berlin:20230304T170000
DTSTAMP:20260421T190051
CREATED:20230304T122906Z
LAST-MODIFIED:20230304T122906Z
UID:2086-1677916800-1677949200@www.oiv-herrensohr.de
SUMMARY:49. Abendmusik
DESCRIPTION:Dieses Mal unter dem Titel „Frühlingserwachen“ mit Violine und Klavier. 
URL:https://www.oiv-herrensohr.de/veranstaltung/49-abendmusik/
LOCATION:Kreuzkirche Herrensohr\, Johannesstraße 33\, Saarbrücken\, Saarland\, 66125\, Deutschland
CATEGORIES:Konzert
ORGANIZER;CN="evangelische Kirchengemeinde Dudweiler/Herrensohr":MAILTO:info@kirchengemeinde-dudweiler.de
END:VEVENT
END:VCALENDAR