BEGIN:VCALENDAR
VERSION:2.0
PRODID:-//OIV Herrensohr - ECPv6.15.14//NONSGML v1.0//EN
CALSCALE:GREGORIAN
METHOD:PUBLISH
X-ORIGINAL-URL:https://www.oiv-herrensohr.de
X-WR-CALDESC:Veranstaltungen für OIV Herrensohr
REFRESH-INTERVAL;VALUE=DURATION:PT1H
X-Robots-Tag:noindex
X-PUBLISHED-TTL:PT1H
BEGIN:VTIMEZONE
TZID:Europe/Berlin
BEGIN:DAYLIGHT
TZOFFSETFROM:+0100
TZOFFSETTO:+0200
TZNAME:CEST
DTSTART:20210328T010000
END:DAYLIGHT
BEGIN:STANDARD
TZOFFSETFROM:+0200
TZOFFSETTO:+0100
TZNAME:CET
DTSTART:20211031T010000
END:STANDARD
BEGIN:DAYLIGHT
TZOFFSETFROM:+0100
TZOFFSETTO:+0200
TZNAME:CEST
DTSTART:20220327T010000
END:DAYLIGHT
BEGIN:STANDARD
TZOFFSETFROM:+0200
TZOFFSETTO:+0100
TZNAME:CET
DTSTART:20221030T010000
END:STANDARD
BEGIN:DAYLIGHT
TZOFFSETFROM:+0100
TZOFFSETTO:+0200
TZNAME:CEST
DTSTART:20230326T010000
END:DAYLIGHT
BEGIN:STANDARD
TZOFFSETFROM:+0200
TZOFFSETTO:+0100
TZNAME:CET
DTSTART:20231029T010000
END:STANDARD
END:VTIMEZONE
BEGIN:VEVENT
DTSTART;TZID=Europe/Berlin:20221202T190000
DTEND;TZID=Europe/Berlin:20221202T203000
DTSTAMP:20260422T001642
CREATED:20221114T174854Z
LAST-MODIFIED:20221114T174935Z
UID:1973-1670007600-1670013000@www.oiv-herrensohr.de
SUMMARY:Abendmusik in der Kreuzkirche
DESCRIPTION:Weihnachten in Deutschland\, England und Schottland \nAlmut Panfilenko (Harfe und Gesang) \nRainer Oster (Klavier) \n– Eintritt frei –
URL:https://www.oiv-herrensohr.de/veranstaltung/abendmusik-in-der-kreuzkirche/
LOCATION:Kreuzkirche Herrensohr\, Johannesstraße 33\, Saarbrücken\, Saarland\, 66125\, Deutschland
CATEGORIES:Konzert
ATTACH;FMTTYPE=image/jpeg:https://www.oiv-herrensohr.de/wp-content/uploads/2022/11/Musik-in-der-Kreuzkirche_46-594x840-1.jpg
ORGANIZER;CN="evangelische Kirchengemeinde Dudweiler/Herrensohr":MAILTO:info@kirchengemeinde-dudweiler.de
END:VEVENT
BEGIN:VEVENT
DTSTART;TZID=Europe/Berlin:20221203T100000
DTEND;TZID=Europe/Berlin:20221203T220000
DTSTAMP:20260422T001642
CREATED:20221127T225316Z
LAST-MODIFIED:20221127T225316Z
UID:1991-1670061600-1670104800@www.oiv-herrensohr.de
SUMMARY:Dudweiler Weihnachtsmarkt
DESCRIPTION:Der Dudweiler Weihnachtsmarkt findet am Samstag\, 3. Dezember\, von 11 bis 22 Uhr\, im Dudweiler Stadtpark statt. Ein historisches Ereignis\, da der Traditionsmarkt erstmals im Park ausgerichtet wird.
URL:https://www.oiv-herrensohr.de/veranstaltung/dudweiler-weihnachtsmarkt/
LOCATION:Stadtpark Dudweiler\, Stadtpark Dudweiler St Ingberter Straße 28\, Dudweiler\, Saarland\, 66125\, Deutschland
CATEGORIES:Fest
ORGANIZER;CN="Verkehrsverein Dudweiler VVD":MAILTO:info@vvd-dudweiler.de
END:VEVENT
BEGIN:VEVENT
DTSTART;TZID=Europe/Berlin:20221210T180000
DTEND;TZID=Europe/Berlin:20221210T200000
DTSTAMP:20260422T001642
CREATED:20221204T211629Z
LAST-MODIFIED:20221204T211629Z
UID:1996-1670695200-1670702400@www.oiv-herrensohr.de
SUMMARY:Theatervorstellung "Schöne Bescherung"
DESCRIPTION:Das Dudweiler Statt-Theater präsentiert \n„Schöne Bescherung“ \neine szenische Weihnachtslesung mit Live-Musik \nWir laden Sie herzlich zu unserer szenischen Weihnachtslesung des DST\, am 10. und I1. Dezember\, jeweils um 18.00 Uhr in der Kreuzkirche Herrensohr\, Johannesstraße 33\, ein. \nWir haben für Sie ein buntes Programm an Weihnachtsgeschichten zusammengetragen. Dabei hören und sehen Sie Geschichten und Lieder aus eigener Feder sowie bekannter und weniger bekannter Autoren. \nUnsere „Weihnachtsband“ sorgt für die musikalische Untermalung. \nEs begegnen Ihnen Weihnachtshunde\, Weihnachtsmänner\, Weihnachtsfrauen\, eine tüdelnde Oma\, ein Förster und seine Frau\, usw.usw. \nUnsere Weihnachtsbar ist für Sie geöffnet und versorgt Sie mit Getränken und kleinen Knabbereien. \nKarten erhalten Sie für 10 € an der Abendkasse \n(0681/740987 – für Rückfragen). \nWir wünschen Ihnen und Ihren Familien ein frohes Weihnachtsfest!
URL:https://www.oiv-herrensohr.de/veranstaltung/theatervorstellung-schoene-bescherung/
LOCATION:Kreuzkirche Herrensohr\, Johannesstraße 33\, Saarbrücken\, Saarland\, 66125\, Deutschland
CATEGORIES:Theatervorführung
ATTACH;FMTTYPE=image/jpeg:https://www.oiv-herrensohr.de/wp-content/uploads/2022/12/IMG_1657-scaled.jpg
ORGANIZER;CN="Statt-Theater Dudweiler":MAILTO:mail@dudweiler-statt-theater.de
END:VEVENT
BEGIN:VEVENT
DTSTART;TZID=Europe/Berlin:20221211T100000
DTEND;TZID=Europe/Berlin:20221211T170000
DTSTAMP:20260422T001642
CREATED:20221205T204235Z
LAST-MODIFIED:20221205T204317Z
UID:1913-1670752800-1670778000@www.oiv-herrensohr.de
SUMMARY:Adventssammlung 2022
DESCRIPTION:Seit 2008 spenden die Menschen aus Herrensohr und Jägersfreude Lebensmittel für Ihre Mitmenschen in schwereren Lebensumständen. \nWie in den vergangenen Jahren sammeln wir auch in diesem Jahr wieder Konserven für die Saarbrücker Tafel\, auch dieses Mal in Herrensohr und Jägersfreude. Die Konserven werden dann wie immer an die Saarbrücker Tafel weitergegeben. \nDaher geht es am 3. Adventssonntag wieder los\, wir sammeln ab 10:00 Uhr in Herrensohr und Jägersfreude\, alle für uns bereitgestellten Konserven vor Ihrer Haustür ein. Wir bitten darum\, das Flugblatt sichtbar zu den Spenden zu legen\, damit wir nichts übersehen.
URL:https://www.oiv-herrensohr.de/veranstaltung/adventssammlung/
LOCATION:Saarland
CATEGORIES:Aktion,Sammlung
ORGANIZER;CN="Uwe Caspari":MAILTO:info@adventsammlung.de
END:VEVENT
BEGIN:VEVENT
DTSTART;TZID=Europe/Berlin:20221211T180000
DTEND;TZID=Europe/Berlin:20221211T200000
DTSTAMP:20260422T001642
CREATED:20221204T212049Z
LAST-MODIFIED:20221204T212049Z
UID:2000-1670781600-1670788800@www.oiv-herrensohr.de
SUMMARY:Theatervorstellung "Schöne Bescherung"
DESCRIPTION:Das Dudweiler Statt-Theater präsentiert \n„Schöne Bescherung“ \neine szenische Weihnachtslesung mit Live-Musik \nWir laden Sie herzlich zu unserer szenischen Weihnachtslesung des DST\, am 10. und I1. Dezember\, jeweils um 18.00 Uhr in der Kreuzkirche Herrensohr\, Johannesstraße 33\, ein. \nWir haben für Sie ein buntes Programm an Weihnachtsgeschichten zusammengetragen. Dabei hören und sehen Sie Geschichten und Lieder aus eigener Feder sowie bekannter und weniger bekannter Autoren. \nUnsere „Weihnachtsband“ sorgt für die musikalische Untermalung. \nEs begegnen Ihnen Weihnachtshunde\, Weihnachtsmänner\, Weihnachtsfrauen\, eine tüdelnde Oma\, ein Förster und seine Frau\, usw.usw. \nUnsere Weihnachtsbar ist für Sie geöffnet und versorgt Sie mit Getränken und kleinen Knabbereien. \nKarten erhalten Sie für 10 € an der Abendkasse \n(0681/740987 – für Rückfragen). \nWir wünschen Ihnen und Ihren Familien ein frohes Weihnachtsfest!
URL:https://www.oiv-herrensohr.de/veranstaltung/theatervorstellung-schoene-bescherung-2/
LOCATION:Kreuzkirche Herrensohr\, Johannesstraße 33\, Saarbrücken\, Saarland\, 66125\, Deutschland
CATEGORIES:Theatervorführung
ATTACH;FMTTYPE=image/jpeg:https://www.oiv-herrensohr.de/wp-content/uploads/2022/12/IMG_1657-scaled.jpg
ORGANIZER;CN="Statt-Theater Dudweiler":MAILTO:mail@dudweiler-statt-theater.de
END:VEVENT
END:VCALENDAR