BEGIN:VCALENDAR
VERSION:2.0
PRODID:-//OIV Herrensohr - ECPv6.15.14//NONSGML v1.0//EN
CALSCALE:GREGORIAN
METHOD:PUBLISH
X-WR-CALNAME:OIV Herrensohr
X-ORIGINAL-URL:https://www.oiv-herrensohr.de
X-WR-CALDESC:Veranstaltungen für OIV Herrensohr
REFRESH-INTERVAL;VALUE=DURATION:PT1H
X-Robots-Tag:noindex
X-PUBLISHED-TTL:PT1H
BEGIN:VTIMEZONE
TZID:Europe/Berlin
BEGIN:DAYLIGHT
TZOFFSETFROM:+0100
TZOFFSETTO:+0200
TZNAME:CEST
DTSTART:20210328T010000
END:DAYLIGHT
BEGIN:STANDARD
TZOFFSETFROM:+0200
TZOFFSETTO:+0100
TZNAME:CET
DTSTART:20211031T010000
END:STANDARD
BEGIN:DAYLIGHT
TZOFFSETFROM:+0100
TZOFFSETTO:+0200
TZNAME:CEST
DTSTART:20220327T010000
END:DAYLIGHT
BEGIN:STANDARD
TZOFFSETFROM:+0200
TZOFFSETTO:+0100
TZNAME:CET
DTSTART:20221030T010000
END:STANDARD
BEGIN:DAYLIGHT
TZOFFSETFROM:+0100
TZOFFSETTO:+0200
TZNAME:CEST
DTSTART:20230326T010000
END:DAYLIGHT
BEGIN:STANDARD
TZOFFSETFROM:+0200
TZOFFSETTO:+0100
TZNAME:CET
DTSTART:20231029T010000
END:STANDARD
END:VTIMEZONE
BEGIN:VEVENT
DTSTART;TZID=Europe/Berlin:20221101T170000
DTEND;TZID=Europe/Berlin:20221101T183000
DTSTAMP:20260422T021732
CREATED:20221029T081643Z
LAST-MODIFIED:20221106T134727Z
UID:1903-1667322000-1667327400@www.oiv-herrensohr.de
SUMMARY:Musikalischen Soirée „Vertrauen auf Gott“ zum 140-jährigen Jubiläum der Christuskirche
DESCRIPTION:Für Dienstag\, 1.11.2022\, Allerheiligen\, um 17 Uhr lädt der Posaunenchor der ev. Kirchengemeinde Dudweiler/Herrensohr herzlich in die Christuskirche in Dudweiler ein. \nProgramm: \nChoralbearbeitungen\, freie Kompositionen alter und zeitgenössischer Musik und drei Fantasien von Jens Uhlenhoff  über „Bilder von Marc Chagall“ zu Bibelszenen: die „Arche Noah“\, die „Opferung Isaaks“ und „brennender Dornbusch“ .  \nZu hören sind: Posaunenchor\, Orgel und SoloInstrumente
URL:https://www.oiv-herrensohr.de/veranstaltung/musikalischen-soiree-vertrauen-auf-gott-zum-140-jaehrigen-jubilaeum-der-christuskirche/
LOCATION:Christuskirche\, Saarbrücker Straße 286\, Dudweiler\, 66125\, Deutschland
CATEGORIES:Andacht/Gottesdienst,Konzert
ATTACH;FMTTYPE=image/jpeg:https://www.oiv-herrensohr.de/wp-content/uploads/2022/10/PosaunenchorAllerheiligen-594x840-1.jpg
ORGANIZER;CN="evangelische Kirchengemeinde Dudweiler/Herrensohr":MAILTO:info@kirchengemeinde-dudweiler.de
END:VEVENT
BEGIN:VEVENT
DTSTART;TZID=Europe/Berlin:20221104T180000
DTEND;TZID=Europe/Berlin:20221104T220000
DTSTAMP:20260422T021732
CREATED:20221101T220358Z
LAST-MODIFIED:20221101T220358Z
UID:1907-1667584800-1667599200@www.oiv-herrensohr.de
SUMMARY:Lichtblicke
DESCRIPTION:Am 4.11. lädt der Gewerbe- & Ortsinteressenverein Pro Dorf Dudweiler\ne.V. gemeinsam mit den ortsansässigen Geschäften und Gewerbetreibenden\nzu den 17. Dudweiler Lichtblicken ein. \nDer Schwerpunkt der Veranstaltung liegt auf den besonderen Events in den\nGeschäften. \nIn der Fußgängerzone sind die Nachtschwärmer auf langen Beinen unterwegs\nund die leuchtenden Beachflags weisen den Weg zum Zelt auf dem Markt. \nFetzige Stimmung und Hüfte schwingen ist im Pro Dorf Zelt mit den\nBluesmatic‘s oder bei Exclusiv-Second-Hand mit den Houndox‘s angesagt. \nFür Essen und Trinken ist in den Geschäften und auf der Aktionsfläche\nbestens gesorgt. \nAuf die Lasershow um 21:30h können Sie sich ganz besonders freuen. \nSeien Sie also auf jeden Fall dabei und bringen Sie mit uns Dudweiler\nzum Leuchten.
URL:https://www.oiv-herrensohr.de/veranstaltung/lichtblicke/
LOCATION:Saarland
CATEGORIES:Aktion,Fest
ORGANIZER;CN="Gewerbe- & Ortsinteressenverein Pro Dorf Dudweiler e.V.":MAILTO:info@prodorfdudweiler.de
END:VEVENT
BEGIN:VEVENT
DTSTART;TZID=Europe/Berlin:20221110T173000
DTEND;TZID=Europe/Berlin:20221110T190000
DTSTAMP:20260422T021732
CREATED:20221106T134247Z
LAST-MODIFIED:20221106T134700Z
UID:1918-1668101400-1668106800@www.oiv-herrensohr.de
SUMMARY:Martinsfeuer- und Umzug in Herrensohr
DESCRIPTION:Am Donnerstag\, 10. November 2022 um 17.30 Uhr laden wir alle Kinder\, Kommunionkinder und ihre Familien zu einer kleinen Martinsfeier vor der Kirche St. Marien in Herrensohr ein. Im Anschluss soll sich ein Laternenumzug mit dem St. Martin und Mitgliedern des Posaunenchores der ev. Kirchengemeinde Dudweiler/Herrensohr auf dem Pferd auf den Weg machen. Nach der Rückkehr wollen wir mit Martinsbrezeln und einem kleinen Feuer noch ein bisschen zusammenbleiben. Bons für die Martinsbrezeln kann man für 1\,50 Euro im Pfarrbüro oder bei den Kommunionstunden erhalten.\n\n\nDoch auch bei allen anderen\, die nicht zur Martinfeier kommen können\, sollte St. Martin nicht sang- und klanglos vorübergehen. In unserer Pfarrei wollen wir wieder das Martinslicht leuchten lassen. Deshalb bitten wir alle\, vom 7. bis 11. November eine Martinslaterne\, eine Kerze\, irgendein Licht ins Fenster zu stellen. Wenn viele mitmachen\, kann ganz Dudweiler und Herrensohr und Jägersfreude im Martinslicht erstrahlen.
URL:https://www.oiv-herrensohr.de/veranstaltung/martinsfeuer-und-umzug-in-herrensohr/
LOCATION:Kirche St. Marien Herrensohr\, Karlstraße 64\, Herrensohr\, 66125\, Deutschland
CATEGORIES:Andacht/Gottesdienst,Umzug
ATTACH;FMTTYPE=image/jpeg:https://www.oiv-herrensohr.de/wp-content/uploads/2022/11/312808703_485095496993102_6501538497518733983_n.jpg
ORGANIZER;CN="katholische Kirchengemeinde":MAILTO:farrbuero.stmarien@googlemail.com
END:VEVENT
BEGIN:VEVENT
DTSTART;TZID=Europe/Berlin:20221117T190000
DTEND;TZID=Europe/Berlin:20221117T190000
DTSTAMP:20260422T021732
CREATED:20221101T220739Z
LAST-MODIFIED:20221101T220739Z
UID:1910-1668711600-1668711600@www.oiv-herrensohr.de
SUMMARY:Primeurfest Dudweiler
DESCRIPTION:(Pressemitteilung)Der Verkehrsverein Dudweiler veranstaltet am 17. November 2022\, ab 19.00 Uhr\, sein diesjähriges Primeurfest. Zeitgleich wird in diesem Jahr das neue Präsidium des Vereins vorgestellt sowie die Verabschiedung von Karin Schmücker und Rita Malcharek feierlich vollzogen.  \nWie immer wird die Veranstaltung natürlich auch musikalisch bestens umrahmt: Das professionelle Duo „Herztöne“ konnte hierzu gewonnen werden. Darauf ist der VVD sehr stolz! \nKulinarisch wird das Primeurfest in diesem Jahr mit Zwiebelkuchen\, Pizza und Käseplatten versorgt\, unterstützt von der neuen Globus Markthalle in Dudweiler. Begrüßen darf der Verkehrsverein e. V. unter anderem seine Freunde aus Duttweiler und St. Avold. Karten gibt es für 10\,00 Euro ab 24.10.2022 bei Mode & Café Exklusiv Second Hand Martina Scheller in der Saarbrücker Straße 271 in Dudweiler. \nIn dem Eintrittspreis enthalten ist ein Glas des neuen Primeurs sowie die kulinarische Verkostung. \nEs wird großartige Gespräche mit zahlreichen Besuchern aus Vereinen\, Gewerben\, Kunst und Kultur in und um Dudweiler geben. Der VVD freut sich auf Sie!
URL:https://www.oiv-herrensohr.de/veranstaltung/primeurfest-dudweiler/
LOCATION:Bürgerhaus Dudweiler\, Am Markt 115\, Saarbrücken-Dudweiler\, 66125\, Deutschland
CATEGORIES:Fest
ORGANIZER;CN="Verkehrsverein Dudweiler VVD":MAILTO:info@vvd-dudweiler.de
END:VEVENT
BEGIN:VEVENT
DTSTART;TZID=Europe/Berlin:20221120T170000
DTEND;TZID=Europe/Berlin:20221120T183000
DTSTAMP:20260422T021732
CREATED:20221106T134541Z
LAST-MODIFIED:20221106T134541Z
UID:1923-1668963600-1668969000@www.oiv-herrensohr.de
SUMMARY:Alles was Odem hat - Konzert des Landesjugendposaunenchor Rheinland
DESCRIPTION:
URL:https://www.oiv-herrensohr.de/veranstaltung/alles-was-odem-hat-konzert-des-landesjugendposaunenchor-rheinland/
LOCATION:Christuskirche\, Saarbrücker Straße 286\, Dudweiler\, 66125\, Deutschland
CATEGORIES:Konzert
ATTACH;FMTTYPE=image/jpeg:https://www.oiv-herrensohr.de/wp-content/uploads/2022/11/313438674_146902088079285_8260025371222905135_n.jpg
ORGANIZER;CN="evangelische Kirchengemeinde Dudweiler/Herrensohr":MAILTO:info@kirchengemeinde-dudweiler.de
END:VEVENT
BEGIN:VEVENT
DTSTART;TZID=Europe/Berlin:20221126T113000
DTEND;TZID=Europe/Berlin:20221126T220000
DTSTAMP:20260422T021732
CREATED:20220827T175210Z
LAST-MODIFIED:20221114T214201Z
UID:1790-1669462200-1669500000@www.oiv-herrensohr.de
SUMMARY:Kaltnaggischer Weihnachtsmarkt 2022
DESCRIPTION:Der Herrensohrer Weihnachtsmarkt ist wieder da. Am 26. November lädt der Ortsinteressenverein Herrensohr\, gemeinsam mit weiteren Vereinen\, Institutionen Bürger*innen und Initiativen aus Herrensohr in und um die evangelische Kreuzkirche Herrensohr in der Johannesstraße ein. Zwischen 11:30 Uhr und 21 Uhr sorgen zahlreiche Vereine und Initiativen beim 44. Kaltnaggischer Weihnachtsmarkt für ein buntes Programm.  \n  \nDer Weihnachtsmarkt ist auch der letzte Tag\, an dem man Teilnahmekarten für den Kaltnaggischer Adventskalender erwerben kann. Bis zum Hl. Abend wird dann täglich ein attraktiver Preis ausgelost\, der von Unternehmen und Privatpersonen gestiftet wurde. Bislang konnten bereits über 50.000 € für karitative Zwecke im Ort verteilt werden.  \nDer OIV Herrensohr und die teilnehmenden Vereine und Gruppen freuen sich auf Ihren Besuch.  \nWeitere Informationen finden Sie auf der Webseite www.oiv-herrensohr.de.
URL:https://www.oiv-herrensohr.de/veranstaltung/kaltnaggischer-weihnachtsmarkt-2/
LOCATION:Kreuzkirche Herrensohr\, Johannesstraße 33\, Saarbrücken\, Saarland\, 66125\, Deutschland
CATEGORIES:Fest
ATTACH;FMTTYPE=image/jpeg:https://www.oiv-herrensohr.de/wp-content/uploads/2022/08/DSC_0269.jpeg
ORGANIZER;CN="evangelische Kirchengemeinde Dudweiler/Herrensohr":MAILTO:info@kirchengemeinde-dudweiler.de
END:VEVENT
BEGIN:VEVENT
DTSTART;TZID=Europe/Berlin:20221129T150000
DTEND;TZID=Europe/Berlin:20221129T170000
DTSTAMP:20260422T021732
CREATED:20221127T224829Z
LAST-MODIFIED:20221127T225410Z
UID:1988-1669734000-1669741200@www.oiv-herrensohr.de
SUMMARY:Infoveranstaltung zu Baumfällarbeiten im Herrensohrer Wald
DESCRIPTION:Der Förster des Saarforst-Reviers Sulzbach/Dudweiler lädt alle Bürger*innen auf Anfrage des OIV Herrensohr zu einem Ortstermin aus Anlass der aktuellen Fällarbeiten ein. \nTreffpunkt am Di\, 29.11.22\, 15:00h am Schützenhaus. 
URL:https://www.oiv-herrensohr.de/veranstaltung/infoveranstaltung-zu-baumfaellarbeiten-im-herrensohrer-wald/
LOCATION:Schützenhaus Herrensohr\, Karlstraße\, Herrensohr\, Saarland\, 66125
CATEGORIES:Informationsveranstaltung
ORGANIZER;CN="OIV Herrensohr":MAILTO:info@oiv-herrensohr.de
END:VEVENT
END:VCALENDAR