BEGIN:VCALENDAR
VERSION:2.0
PRODID:-//OIV Herrensohr - ECPv6.15.14//NONSGML v1.0//EN
CALSCALE:GREGORIAN
METHOD:PUBLISH
X-ORIGINAL-URL:https://www.oiv-herrensohr.de
X-WR-CALDESC:Veranstaltungen für OIV Herrensohr
REFRESH-INTERVAL;VALUE=DURATION:PT1H
X-Robots-Tag:noindex
X-PUBLISHED-TTL:PT1H
BEGIN:VTIMEZONE
TZID:Europe/Berlin
BEGIN:DAYLIGHT
TZOFFSETFROM:+0100
TZOFFSETTO:+0200
TZNAME:CEST
DTSTART:20210328T010000
END:DAYLIGHT
BEGIN:STANDARD
TZOFFSETFROM:+0200
TZOFFSETTO:+0100
TZNAME:CET
DTSTART:20211031T010000
END:STANDARD
BEGIN:DAYLIGHT
TZOFFSETFROM:+0100
TZOFFSETTO:+0200
TZNAME:CEST
DTSTART:20220327T010000
END:DAYLIGHT
BEGIN:STANDARD
TZOFFSETFROM:+0200
TZOFFSETTO:+0100
TZNAME:CET
DTSTART:20221030T010000
END:STANDARD
BEGIN:DAYLIGHT
TZOFFSETFROM:+0100
TZOFFSETTO:+0200
TZNAME:CEST
DTSTART:20230326T010000
END:DAYLIGHT
BEGIN:STANDARD
TZOFFSETFROM:+0200
TZOFFSETTO:+0100
TZNAME:CET
DTSTART:20231029T010000
END:STANDARD
END:VTIMEZONE
BEGIN:VEVENT
DTSTART;TZID=Europe/Berlin:20221005T180000
DTEND;TZID=Europe/Berlin:20221005T193000
DTSTAMP:20260422T040437
CREATED:20220924T174716Z
LAST-MODIFIED:20220924T174716Z
UID:1892-1664992800-1664998200@www.oiv-herrensohr.de
SUMMARY:Planungstreffen Kaltnaggischer Weihnachtsmarkt 2022
DESCRIPTION:Ortsansässige Vereine und Institutionen sind eingeladen\, sich an der Planung und Durchführung des 44. Kaltnaggischer Weihnachtsmarkts zu beteiligen.  \nWeitere Informationen und Interessenbekundung hier im Download..
URL:https://www.oiv-herrensohr.de/veranstaltung/planungstreffen-kaltnaggischer-weihnachtsmarkt-2022/
LOCATION:Kreuzkirche Herrensohr\, Johannesstraße 33\, Saarbrücken\, Saarland\, 66125\, Deutschland
CATEGORIES:Informationsveranstaltung
ORGANIZER;CN="OIV Herrensohr":MAILTO:info@oiv-herrensohr.de
END:VEVENT
BEGIN:VEVENT
DTSTART;TZID=Europe/Berlin:20221007T190000
DTEND;TZID=Europe/Berlin:20221007T203000
DTSTAMP:20260422T040437
CREATED:20220930T061841Z
LAST-MODIFIED:20220930T061841Z
UID:1898-1665169200-1665174600@www.oiv-herrensohr.de
SUMMARY:Musik in der Kreuzkirche
DESCRIPTION:Konzert für Violine und Orgel \nmit Jeonghwa Son (Violine)\, Johannes Bernhard Bernarding (Orgel)
URL:https://www.oiv-herrensohr.de/veranstaltung/musik-in-der-kreuzkirche/
LOCATION:Kreuzkirche Herrensohr\, Johannesstraße 33\, Saarbrücken\, Saarland\, 66125\, Deutschland
CATEGORIES:Konzert
ATTACH;FMTTYPE=image/jpeg:https://www.oiv-herrensohr.de/wp-content/uploads/2022/09/Musik-in-der-Kreuzkirche_44-594x840-1.jpg
ORGANIZER;CN="evangelische Kirchengemeinde Dudweiler/Herrensohr":MAILTO:info@kirchengemeinde-dudweiler.de
END:VEVENT
END:VCALENDAR