BEGIN:VCALENDAR
VERSION:2.0
PRODID:-//OIV Herrensohr - ECPv6.15.14//NONSGML v1.0//EN
CALSCALE:GREGORIAN
METHOD:PUBLISH
X-WR-CALNAME:OIV Herrensohr
X-ORIGINAL-URL:https://www.oiv-herrensohr.de
X-WR-CALDESC:Veranstaltungen für OIV Herrensohr
REFRESH-INTERVAL;VALUE=DURATION:PT1H
X-Robots-Tag:noindex
X-PUBLISHED-TTL:PT1H
BEGIN:VTIMEZONE
TZID:Europe/Berlin
BEGIN:DAYLIGHT
TZOFFSETFROM:+0100
TZOFFSETTO:+0200
TZNAME:CEST
DTSTART:20210328T010000
END:DAYLIGHT
BEGIN:STANDARD
TZOFFSETFROM:+0200
TZOFFSETTO:+0100
TZNAME:CET
DTSTART:20211031T010000
END:STANDARD
BEGIN:DAYLIGHT
TZOFFSETFROM:+0100
TZOFFSETTO:+0200
TZNAME:CEST
DTSTART:20220327T010000
END:DAYLIGHT
BEGIN:STANDARD
TZOFFSETFROM:+0200
TZOFFSETTO:+0100
TZNAME:CET
DTSTART:20221030T010000
END:STANDARD
BEGIN:DAYLIGHT
TZOFFSETFROM:+0100
TZOFFSETTO:+0200
TZNAME:CEST
DTSTART:20230326T010000
END:DAYLIGHT
BEGIN:STANDARD
TZOFFSETFROM:+0200
TZOFFSETTO:+0100
TZNAME:CET
DTSTART:20231029T010000
END:STANDARD
END:VTIMEZONE
BEGIN:VEVENT
DTSTART;VALUE=DATE:20220902
DTEND;VALUE=DATE:20220905
DTSTAMP:20260422T060948
CREATED:20220829T201256Z
LAST-MODIFIED:20220829T201256Z
UID:1808-1662076800-1662335999@www.oiv-herrensohr.de
SUMMARY:Garagenfest
DESCRIPTION:13. Kaltnaggischer Garagenfest am 02.09 – 04.09.2022\nMarktstr. 7 – Hof ehemaliges Gasthaus Arend\nIn diesem Jahr feiern wir unser 22-jähriges Jubiläum. Aus diesem Grund beginnen wir bereits freitags ab 17 Uhr mit einem Festkommers. \nAbends übernimmt die Haus- und Hofband Tequila Sunrise die musikalische Untermalung der Veranstaltung. Samstags öffnen wir um 11 Uhr den Getränkestand und um 12 Uhr den Grill. Den Abend genießen wir bei frisch gemixten Cocktails und kaltem Bier mit Livemusik unserer Haus- und Hofband Tequila Sunrise. Am Sonntag geht es dann fröhlich weiter mit dem Frühschoppen um 10 Uhr. Ab 12 Uhr ist unsere Kuchentheke und Küche mit vielerlei Leckerbissen für Sie geöffnet. Wir wollen auch unsere Jüngsten nicht vergessen deshalb bieten wir sonntags ein schönes Kinderprogramm u.a. mit Kinderschminken an. Ein Fest für die ganze Familie! Wir freuen uns auf Sie! \nRostwurst weiß/rot 3\,00 € \nCurry-Wurst 3.50 € \nSchwenkbraten 4 00 € \nPommes 2\,50 € \nGefüllte mit Specksoße und Kraut 7\,50 € \nLeberknödel mit Soße und Kraut 7\,50 € \n  \nSpeisen können auch mitgenommen werden. Bitte eigene Behälter mitbringen. (Vereinsgeschirr ‚to go‘ gegen Aufpreis). Gerne bringen wir Ihnen auch samstags und sonntags das Essen innerhalb Herrensohr in der Zeit von 12-14 Uhr vorbei. Vorbestellungen werden bis zum 31. August ausschließlich unter der Telefonnummer \n0151/12406649 angenommen. \nEine Veranstaltung des Kaltnaggischer Gardisten Corps 2000 e.V
URL:https://www.oiv-herrensohr.de/veranstaltung/garagenfest/
LOCATION:Garagenplatz Dorfmitte\, Marktstraße 7a\, Herrensohr\, 66125\, Deutschland
CATEGORIES:Fest
ORGANIZER;CN="Kaltnaggischer Gardistencorps (KGC)":MAILTO:kgc.herrensohr@gmail.com
END:VEVENT
BEGIN:VEVENT
DTSTART;TZID=Europe/Berlin:20220902T190000
DTEND;TZID=Europe/Berlin:20220902T203000
DTSTAMP:20260422T060948
CREATED:20220901T122953Z
LAST-MODIFIED:20220901T122953Z
UID:1834-1662145200-1662150600@www.oiv-herrensohr.de
SUMMARY:43. Abendmusik
DESCRIPTION:Orgelkonzert mit Yumi Oster \n– Eintritt frei – \nKreuzkirche Herrensohr\, Johannesstr. 33
URL:https://www.oiv-herrensohr.de/veranstaltung/43-abendmusik/
LOCATION:Kreuzkirche Herrensohr\, Johannesstraße 33\, Saarbrücken\, Saarland\, 66125\, Deutschland
CATEGORIES:Konzert
ORGANIZER;CN="evangelische Kirchengemeinde Dudweiler/Herrensohr":MAILTO:info@kirchengemeinde-dudweiler.de
END:VEVENT
BEGIN:VEVENT
DTSTART;TZID=Europe/Berlin:20220910T110000
DTEND;TZID=Europe/Berlin:20220910T170000
DTSTAMP:20260422T060948
CREATED:20220827T174401Z
LAST-MODIFIED:20250420T204819Z
UID:1783-1662807600-1662829200@www.oiv-herrensohr.de
SUMMARY:2. Tunnelfest "MEERwert für Kaltnaggisch"
DESCRIPTION:Der Ortsinteressenverein Herrensohr lädt\, gemeinsam mit weiteren Partnern\, am Samstag\, 10. September 2022 zum 2. Tunnelfest in die „Herrensohrer Unterwasserwelt“ ein. Dann soll gemeinsam geschrubbt\, gespielt\, gegessen und getrunken werden. \nLos geht es morgens um 11 Uhr. Gemeinsam mit der Jugendfeuerwehr Herrensohr soll zunächst einmal das Graffito in der Unterführung\, die Herrensohr und das Wiesental in Höhe Wilhelmshöhe verbindet\, gereinigt werden. Mit anpacken kann jeder – Schwämme und Putzmittel hält der Vorstand des Ortsinteressenvereins bereit. Ab 13 Uhr steht dann bis ca. 17 Uhr das gesellige Beisammensein im Vordergrund. Markus Ehses und Doro Backes\, Vorsitzender und stellv. Vorsitzende des OIV Herrensohr\, freuen sich auf die Veranstaltung und laden alle herzlich ein\, vorbeizukommen: „Kommen Sie und machen Sie mit. Sprechen Sie uns gerne auch an und erzählen Sie uns zum Beispiel von dem\, was Ihnen in „Kaltnaggisch“ gut gefällt oder was aus Ihrer Sicht noch verbessert werden sollte. Bringen Sie sich mit Ihren Ideen für Herrensohr ein“. Die Gartenfreunde Dudweiler-Wiesental e.V. stellen ihr Gerätehaus mit Toiletten sowie Strom- und Wasseranschluss zur Verfügung. Der TUS Herrensohr e.V. sorgt mit dem OIV für Speis und Trank. Die Schäfchenfreunde Dudweiler Wiesental werden mit der städtischen Kita Herrensohr und ihren Walliser Schwarznasenschafen für Kinderunterhaltung sorgen. Jessica Thiele ist neu im Vorstand des Ortsinteressensverein und ihr ist\, gemeinsam mit Lisa Backes\, die schon länger im OIV aktiv ist\, das Thema „Kinder“ besonders wichtig: „Wir sind neu nach Herrensohr gezogen und unser Sohn wird hier aufwachsen. Da liegt es nahe\, dass ich mich hier im Ort auch für die Angebote für Kinder und junge Familien einbringe.“ \n  \nBeim Tunnelfest wird auch der Künstler\, Pascal Herth\, der das Graffito im Jahr 2016 auf Anregung des OIV Herrensohr erstellt hat\, mit dabei sein. Das Motiv für die Unterführung\, die der Deutschen Bahn gehört\, wurde in Kooperation mit der Kinder- und Jugendarbeit des Regionalverbandes umgesetzt und unter breiter Beteiligung der Herrensohrerinnen und Herrensohrer ausgewählt. \n  \nDownloads: \nTunnelfest-Plakat \nTunnelfest-Flyer mit Infos
URL:https://www.oiv-herrensohr.de/veranstaltung/2-tunnelfest-meerwert-fuer-kaltnaggisch/
LOCATION:Fußgängertunnel zum Wiesental\, oberhalb des Wiesentals (Zugang zwischen unterer Karlsstr. 1 und Marktstr. 1)\, Herrensohr\, 66125
CATEGORIES:Aktion,Fest,Instandsetzung
ATTACH;FMTTYPE=image/jpeg:https://www.oiv-herrensohr.de/wp-content/uploads/2022/08/IMG_5999-scaled-e1661621845319.jpeg
ORGANIZER;CN="OIV Herrensohr":MAILTO:info@oiv-herrensohr.de
END:VEVENT
BEGIN:VEVENT
DTSTART;TZID=Europe/Berlin:20220917T170000
DTEND;TZID=Europe/Berlin:20220917T183000
DTSTAMP:20260422T060948
CREATED:20220917T123957Z
LAST-MODIFIED:20220917T123957Z
UID:1848-1663434000-1663439400@www.oiv-herrensohr.de
SUMMARY:Festgottesdienst 120 Grundsteinlegung St. Marien
DESCRIPTION:
URL:https://www.oiv-herrensohr.de/veranstaltung/festgottesdienst-120-grundsteinlegung-st-marien/
LOCATION:Kirche St. Marien Herrensohr\, Karlstraße 64\, Herrensohr\, 66125\, Deutschland
CATEGORIES:Andacht/Gottesdienst
ORGANIZER;CN="katholische Kirchengemeinde":MAILTO:farrbuero.stmarien@googlemail.com
END:VEVENT
BEGIN:VEVENT
DTSTART;TZID=Europe/Berlin:20220917T190000
DTEND;TZID=Europe/Berlin:20220917T230000
DTSTAMP:20260422T060948
CREATED:20220917T123328Z
LAST-MODIFIED:20220917T123328Z
UID:1843-1663441200-1663455600@www.oiv-herrensohr.de
SUMMARY:Oktoberfest Schützenverein Herrensohr
DESCRIPTION:4. Oktoberfest im Festzelt mit Live-Musik \n 
URL:https://www.oiv-herrensohr.de/veranstaltung/oktoberfest-schuetzenverein-herrensohr/
LOCATION:Schützenhaus Herrensohr\, Karlstraße\, Herrensohr\, Saarland\, 66125
CATEGORIES:Fest
ORGANIZER;CN="Sch%C3%BCtzenverein Hubertus Herrensohr":MAILTO:mailto:vorstand@hubertusherrensohr.de
END:VEVENT
END:VCALENDAR