BEGIN:VCALENDAR
VERSION:2.0
PRODID:-//OIV Herrensohr - ECPv6.15.14//NONSGML v1.0//EN
CALSCALE:GREGORIAN
METHOD:PUBLISH
X-ORIGINAL-URL:https://www.oiv-herrensohr.de
X-WR-CALDESC:Veranstaltungen für OIV Herrensohr
REFRESH-INTERVAL;VALUE=DURATION:PT1H
X-Robots-Tag:noindex
X-PUBLISHED-TTL:PT1H
BEGIN:VTIMEZONE
TZID:Europe/Berlin
BEGIN:DAYLIGHT
TZOFFSETFROM:+0100
TZOFFSETTO:+0200
TZNAME:CEST
DTSTART:20210328T010000
END:DAYLIGHT
BEGIN:STANDARD
TZOFFSETFROM:+0200
TZOFFSETTO:+0100
TZNAME:CET
DTSTART:20211031T010000
END:STANDARD
BEGIN:DAYLIGHT
TZOFFSETFROM:+0100
TZOFFSETTO:+0200
TZNAME:CEST
DTSTART:20220327T010000
END:DAYLIGHT
BEGIN:STANDARD
TZOFFSETFROM:+0200
TZOFFSETTO:+0100
TZNAME:CET
DTSTART:20221030T010000
END:STANDARD
BEGIN:DAYLIGHT
TZOFFSETFROM:+0100
TZOFFSETTO:+0200
TZNAME:CEST
DTSTART:20230326T010000
END:DAYLIGHT
BEGIN:STANDARD
TZOFFSETFROM:+0200
TZOFFSETTO:+0100
TZNAME:CET
DTSTART:20231029T010000
END:STANDARD
END:VTIMEZONE
BEGIN:VEVENT
DTSTART;TZID=Europe/Berlin:20220522T170000
DTEND;TZID=Europe/Berlin:20220522T200000
DTSTAMP:20260422T132703
CREATED:20220424T163024Z
LAST-MODIFIED:20220428T113543Z
UID:1606-1653238800-1653249600@www.oiv-herrensohr.de
SUMMARY:Mitgliederversammlung 2022
DESCRIPTION:Sonntag\, den 22.05. 2022\, 17.00 Uhr im Gasthaus zum Schlößchen\, Tagesordnung folgt
URL:https://www.oiv-herrensohr.de/veranstaltung/mitgliederversammlung-2022/
LOCATION:Gaststätte zum Schlösschen\, Talstraße 1\, Dudweiler-Herrensohr\, Saarland\, 66125\, Deutschland
ORGANIZER;CN="OIV Herrensohr":MAILTO:info@oiv-herrensohr.de
END:VEVENT
BEGIN:VEVENT
DTSTART;TZID=Europe/Berlin:20220528T140000
DTEND;TZID=Europe/Berlin:20220528T170000
DTSTAMP:20260422T132703
CREATED:20220527T152004Z
LAST-MODIFIED:20220527T152004Z
UID:1636-1653746400-1653757200@www.oiv-herrensohr.de
SUMMARY:Weltspieltag: Spielen mit den Schafen
DESCRIPTION:Fünf Walliser Schwarznasenschafe auch wieder mit dabei – und sie dürfen gestreichelt werden \nAnlässlich des Weltspieltags\, am 28. Mai\, lädt der OIV Herrensohr gemeinsam mit den Schäfchenfreunden ins Wiesental ein. „Alle sind herzlich willkommen\, den Tag mit uns im Freien zu verbringen und wir freuen uns\, wenn Familien mit Kindern die Gelegenheit zum Spielen\, im Freien\, mit ihren Kindern nutzen“\, sagt Doro Backes\, zweite Vorsitzende des Ortsinteressensverein Herrensohr. \nDr. Doris Kiefer\, die sowohl als Schäfchenfreundin als auch beim OIV Herrensohr aktiv ist\, ergänzt: „Outdoor-Bewegungs- und Spielgelegenheiten spielen eine zentrale Rolle dabei\, dass Kinder ihre Persönlichkeit entwickeln und gesund aufwachsen können. Dafür braucht es oft nicht viel und wenn die Gelegenheiten da sind\, entwickeln die Kinder oft eigene kreative Ideen\, was gespielt werden kann. Die Herrensohrer Wiesen bieten dafür optimale Bedingungen\, denn sie bieten den Raum\, den Kinder zum Freien Spielen brauchen.“ \nDr. Markus Ehses\, neu gewählter erster Vorsitzender des OIV\, freut sich über die spontane Entscheidung der beiden Frauen in seinem Vorstand\, sich am Aktionstag zu beteiligen. „Uns ist es wichtig\, dass sich in Herrensohr etwas bewegt und daher möchten wir am Aktionstag auch gerne ein Zeichen setzen\, für die Kinder und für den Ort.“ \nNeben den Möglichkeiten\, die das Wiesental ohnehin zum Spielen bietet\, werden zwischen 14 und 17 Uhr auch ein paar kleine Spielmöglichkeiten aufgebaut sein\, bei denen die Kinder unter Anleitung ihrer Eltern ihre Geschicklichkeit testen können. Außerdem sind die fünf Walliser Schwarznasenschafe\, die seit Ostern immer mal wieder im Wiesental zu sehen sind\, auch wieder mit dabei und dürfen gestreichelt werden. \nHintergrund zu dieser Aktion ist der jährliche weltweite Aktionstag\, mit dem das Deutsche Kinderhilfswerk\, das den Tag gemeinsam mit dem Bündnis „Recht auf Spiel“ ins Leben gerufen hat\, an das natürliche Grundbedürfnis von Kindern erinnert\, frei spielen zu können. \nDas Motto des Weltspieltags am 28. Mai 2022 lautet:“Wir brauchen Spiel und Bewegung – draußen und gemeinsam“. \nPlakat zur Aktion: Weltspieltag 2022 Wiesental Plakat A3
URL:https://www.oiv-herrensohr.de/veranstaltung/weltspieltag-spielen-mit-den-schafen/
LOCATION:Wiesental/Herrensohrer Wiesen\, Wilhelmshöhe/Sulzbachtalstraße\, Herrensohr\, 66125\, Deutschland
CATEGORIES:Aktion,Fest
ORGANIZER;CN="OIV Herrensohr":MAILTO:info@oiv-herrensohr.de
END:VEVENT
END:VCALENDAR