BEGIN:VCALENDAR
VERSION:2.0
PRODID:-//OIV Herrensohr - ECPv6.15.14//NONSGML v1.0//EN
CALSCALE:GREGORIAN
METHOD:PUBLISH
X-ORIGINAL-URL:https://www.oiv-herrensohr.de
X-WR-CALDESC:Veranstaltungen für OIV Herrensohr
REFRESH-INTERVAL;VALUE=DURATION:PT1H
X-Robots-Tag:noindex
X-PUBLISHED-TTL:PT1H
BEGIN:VTIMEZONE
TZID:Europe/Berlin
BEGIN:DAYLIGHT
TZOFFSETFROM:+0100
TZOFFSETTO:+0200
TZNAME:CEST
DTSTART:20200329T010000
END:DAYLIGHT
BEGIN:STANDARD
TZOFFSETFROM:+0200
TZOFFSETTO:+0100
TZNAME:CET
DTSTART:20201025T010000
END:STANDARD
BEGIN:DAYLIGHT
TZOFFSETFROM:+0100
TZOFFSETTO:+0200
TZNAME:CEST
DTSTART:20210328T010000
END:DAYLIGHT
BEGIN:STANDARD
TZOFFSETFROM:+0200
TZOFFSETTO:+0100
TZNAME:CET
DTSTART:20211031T010000
END:STANDARD
BEGIN:DAYLIGHT
TZOFFSETFROM:+0100
TZOFFSETTO:+0200
TZNAME:CEST
DTSTART:20220327T010000
END:DAYLIGHT
BEGIN:STANDARD
TZOFFSETFROM:+0200
TZOFFSETTO:+0100
TZNAME:CET
DTSTART:20221030T010000
END:STANDARD
END:VTIMEZONE
BEGIN:VEVENT
DTSTART;TZID=Europe/Berlin:20211127T110000
DTEND;TZID=Europe/Berlin:20211127T210000
DTSTAMP:20260422T234817
CREATED:20211110T212216Z
LAST-MODIFIED:20211121T174833Z
UID:1569-1638010800-1638046800@www.oiv-herrensohr.de
SUMMARY:Kaltnaggischer Weihnachtsmarkt 2021 (abgesagt)
DESCRIPTION:AKTUALISIERUNG! \nDER KALTNAGGISCHER WEIHNACHTSMARKT WURDE WEGEN DER PANDEMISCHEN LAGE VOM OIV ABGESAGT! \nDER ADVENTSKALENDER WIRD ABER DURCHGEFÜHRT. KARTEN SIND WIE GEHABT IN DEN HERRENSOHRER GESCHÄFTEN ERHÄLTLICH.  \nDetails zum Adventskalender siehe weiter unten.  \n  \nDer OIV Herrensohr lädt zum 44. Kaltnaggischer Weihnachtsmarkt am Vortag des 1. Advent\, Samstag\, dem 27.11.2021 auf die Grünanlage neben der evangelischen Kreuzkirche ein. Nachdem im letzten Jahr wegen der Corona-Pandemie auf auf den Budenzauber verzichtet werden musste\, soll in diesem Jahr das Zusammenkommen der Bürgerinnen und Bürger in vorweihnachtlicher Atmosphäre wieder möglich sein.  \nAllerdings haben der OIV und die evangelische Kirchengemeinde\, die auch in diesem Jahr wieder ihr Gelände und die Infrastruktur zur Verfügung stellt\, schweren Herzens beschlossen\, auf den Hobby-Markt im Innenraum der Kirche zu verzichten.  \nDer Weihnachtsmarkt wird von den Turmbläserinnen und Turmbläsern des ev. Posaunenchors Dudweiler/Herrensohr angekündigt. Um 11h startet der Markt mit einer kurzen Andacht um 11:00h. Besonders die Erstklässler der Grundschule werden sich auf die Ankunft des Nikolauses freuen. Der Posaunenchor wird die Eröffnung musikalisch begleiten.  \nÜber den Nachmittag und frühen Abend werden verschiedene Chöre und das Schalmeienorchester Dudweiler ein Kulturprogramm darbieten. Um 18:00h beschert der Nikolaus für alle großen und kleinen Kinder noch einmal.  \nFür das leibliche Wohl wird gesorgt sein. Mittagessen\, Kaffee und Kuchen und ein Abendessen stellen Après-Skiclub\, TuS-Förderverein und Kaltnaggischer Gardistenkorps zur Verfügung.  \nKALTNAGGISCHER ADVENTSKALENDER \nIn den Tagen davor und während des Weihnachtsmarktes können Sie auch wieder am Kaltnaggischer Adventskalender teilnehmen. Sie unterstützen mit dem Kaltnaggischer Adventskalender soziales Engagement in Herrensohr. Karten können Sie zu je 1€ erwerben  \n\nin den Herrensohrer Geschäften\nauf Anfrage beim OIV Herrensohr (info@oiv-herrensohr.de\, Tel. 06897 765963‬)\noder sie drucken sich die Karten (möglichst A6\, Rückseite genügt) selbst aus\n\n \nDazu füllen sie eine Karte mit Ihrem Namen und einer Telefonnummer oder eMail-Adresse aus (Reservierungskarte) und geben diese mit der gewünschten Anzahl an Teilnahmekarten und dem entsprechendem Betrag (1€/Teilnahmekarte) \n\nin die Sammelboxen in der Bäckerei Maurer \nHerrensohr\, Filialen Karlstraße und Jägerstraße oder\nin einem Umschlag in den Briefkasten der 1. Vorsitzenden (Karlstr. 7)\n\nDie Gewinne werden durch Unternehmer*innen und Privatpersonen gespendet. Ihnen dankt der OIV besonders herzlich! \nDer Kaltnaggischer Adventskalender wird in der Adventszeit im Kaltnaggischer Schaufenster im Ortskern (Querspange zwischen Karl- und Marktstraße) ausgestellt. Jeden Tag im Advent öffnet sich ein Türchen und beglückt eine/n Teilnehmer*in mit einem Gewinn.
URL:https://www.oiv-herrensohr.de/veranstaltung/weihnachtsmarkt/
LOCATION:Kreuzkirche Herrensohr\, Johannesstraße 33\, Saarbrücken\, Saarland\, 66125\, Deutschland
CATEGORIES:Andacht/Gottesdienst,Fest
ORGANIZER;CN="OIV Herrensohr":MAILTO:info@oiv-herrensohr.de
END:VEVENT
END:VCALENDAR