BEGIN:VCALENDAR
VERSION:2.0
PRODID:-//OIV Herrensohr - ECPv6.15.14//NONSGML v1.0//EN
CALSCALE:GREGORIAN
METHOD:PUBLISH
X-WR-CALNAME:OIV Herrensohr
X-ORIGINAL-URL:https://www.oiv-herrensohr.de
X-WR-CALDESC:Veranstaltungen für OIV Herrensohr
REFRESH-INTERVAL;VALUE=DURATION:PT1H
X-Robots-Tag:noindex
X-PUBLISHED-TTL:PT1H
BEGIN:VTIMEZONE
TZID:Europe/Berlin
BEGIN:DAYLIGHT
TZOFFSETFROM:+0100
TZOFFSETTO:+0200
TZNAME:CEST
DTSTART:20190331T010000
END:DAYLIGHT
BEGIN:STANDARD
TZOFFSETFROM:+0200
TZOFFSETTO:+0100
TZNAME:CET
DTSTART:20191027T010000
END:STANDARD
BEGIN:DAYLIGHT
TZOFFSETFROM:+0100
TZOFFSETTO:+0200
TZNAME:CEST
DTSTART:20200329T010000
END:DAYLIGHT
BEGIN:STANDARD
TZOFFSETFROM:+0200
TZOFFSETTO:+0100
TZNAME:CET
DTSTART:20201025T010000
END:STANDARD
BEGIN:DAYLIGHT
TZOFFSETFROM:+0100
TZOFFSETTO:+0200
TZNAME:CEST
DTSTART:20210328T010000
END:DAYLIGHT
BEGIN:STANDARD
TZOFFSETFROM:+0200
TZOFFSETTO:+0100
TZNAME:CET
DTSTART:20211031T010000
END:STANDARD
END:VTIMEZONE
BEGIN:VEVENT
DTSTART;TZID=Europe/Berlin:20201206T120000
DTEND;TZID=Europe/Berlin:20201206T123000
DTSTAMP:20260423T205923
CREATED:20201128T214833Z
LAST-MODIFIED:20201128T214917Z
UID:1534-1607256000-1607257800@www.oiv-herrensohr.de
SUMMARY:Adventslieder vom Kirchturm
DESCRIPTION:An den Adventssonntagen um 12:00h werden Bläser*innen des Posaunenchores Dudweiler/Herrensohr vom Kirchturm der Kreuzkirche Adventslieder spielen.  Mitsingen ist erwünscht. 
URL:https://www.oiv-herrensohr.de/veranstaltung/1534/
LOCATION:Kreuzkirche Herrensohr\, Johannesstraße 33\, Saarbrücken\, Saarland\, 66125\, Deutschland
CATEGORIES:Andacht/Gottesdienst,Konzert
ORGANIZER;CN="evangelische Kirchengemeinde Dudweiler/Herrensohr":MAILTO:info@kirchengemeinde-dudweiler.de
END:VEVENT
BEGIN:VEVENT
DTSTART;TZID=Europe/Berlin:20201213T120000
DTEND;TZID=Europe/Berlin:20201213T123000
DTSTAMP:20260423T205923
CREATED:20201128T215029Z
LAST-MODIFIED:20201128T215029Z
UID:1538-1607860800-1607862600@www.oiv-herrensohr.de
SUMMARY:Adventslieder vom Kirchturm
DESCRIPTION:An den Adventssonntagen um 12:00h werden Bläser*innen des Posaunenchores Dudweiler/Herrensohr vom Kirchturm der Kreuzkirche Adventslieder spielen.  Mitsingen ist erwünscht. 
URL:https://www.oiv-herrensohr.de/veranstaltung/adventslieder-vom-kirchturm-2/
LOCATION:Kreuzkirche Herrensohr\, Johannesstraße 33\, Saarbrücken\, Saarland\, 66125\, Deutschland
CATEGORIES:Andacht/Gottesdienst,Konzert
ORGANIZER;CN="evangelische Kirchengemeinde Dudweiler/Herrensohr":MAILTO:info@kirchengemeinde-dudweiler.de
END:VEVENT
BEGIN:VEVENT
DTSTART;TZID=Europe/Berlin:20201220T120000
DTEND;TZID=Europe/Berlin:20201220T123000
DTSTAMP:20260423T205923
CREATED:20201128T215211Z
LAST-MODIFIED:20201128T215211Z
UID:1541-1608465600-1608467400@www.oiv-herrensohr.de
SUMMARY:Adventslieder vom Kirchturm
DESCRIPTION:An den Adventssonntagen um 12:00h werden Bläser*innen des Posaunenchores Dudweiler/Herrensohr vom Kirchturm der Kreuzkirche Adventslieder spielen.  Mitsingen ist erwünscht. 
URL:https://www.oiv-herrensohr.de/veranstaltung/adventslieder-vom-kirchturm-3/
LOCATION:Kreuzkirche Herrensohr\, Johannesstraße 33\, Saarbrücken\, Saarland\, 66125\, Deutschland
CATEGORIES:Andacht/Gottesdienst,Konzert
ORGANIZER;CN="evangelische Kirchengemeinde Dudweiler/Herrensohr":MAILTO:info@kirchengemeinde-dudweiler.de
END:VEVENT
END:VCALENDAR