BEGIN:VCALENDAR
VERSION:2.0
PRODID:-//OIV Herrensohr - ECPv6.15.14//NONSGML v1.0//EN
CALSCALE:GREGORIAN
METHOD:PUBLISH
X-WR-CALNAME:OIV Herrensohr
X-ORIGINAL-URL:https://www.oiv-herrensohr.de
X-WR-CALDESC:Veranstaltungen für OIV Herrensohr
REFRESH-INTERVAL;VALUE=DURATION:PT1H
X-Robots-Tag:noindex
X-PUBLISHED-TTL:PT1H
BEGIN:VTIMEZONE
TZID:Europe/Berlin
BEGIN:DAYLIGHT
TZOFFSETFROM:+0100
TZOFFSETTO:+0200
TZNAME:CEST
DTSTART:20190331T010000
END:DAYLIGHT
BEGIN:STANDARD
TZOFFSETFROM:+0200
TZOFFSETTO:+0100
TZNAME:CET
DTSTART:20191027T010000
END:STANDARD
BEGIN:DAYLIGHT
TZOFFSETFROM:+0100
TZOFFSETTO:+0200
TZNAME:CEST
DTSTART:20200329T010000
END:DAYLIGHT
BEGIN:STANDARD
TZOFFSETFROM:+0200
TZOFFSETTO:+0100
TZNAME:CET
DTSTART:20201025T010000
END:STANDARD
BEGIN:DAYLIGHT
TZOFFSETFROM:+0100
TZOFFSETTO:+0200
TZNAME:CEST
DTSTART:20210328T010000
END:DAYLIGHT
BEGIN:STANDARD
TZOFFSETFROM:+0200
TZOFFSETTO:+0100
TZNAME:CET
DTSTART:20211031T010000
END:STANDARD
END:VTIMEZONE
BEGIN:VEVENT
DTSTART;TZID=Europe/Berlin:20200425T180000
DTEND;TZID=Europe/Berlin:20200425T183000
DTSTAMP:20260424T110939
CREATED:20200425T055236Z
LAST-MODIFIED:20200501T105611Z
UID:1399-1587837600-1587839400@www.oiv-herrensohr.de
SUMMARY:Abendlieder vom Kirchturm
DESCRIPTION:Am Samstag\, 25.04.20\, nach dem Abendläuten um 18:00h spielen Mitglieder des Posaunenchores der evangelischen Kirchengemeinde Dudweiler/Herrensohr Abendlieder aus dem Evangelischen Gesangbuch (EG) und dem (katholischen) Gotteslob (GL) vom Turm der evangelischen Kreuzkirche in Herrensohr. Die Lieder sollen alle Einwohner Herrensohrs in dieser schwierigen Zeit der Abgrenzung und Isolation einen kleinen Lichtblick im eintönigen Alltag und ein Stück des fehlenden Gemeinschaftsgefühls wiedergeben.  \nDie Herrensohrer Bürgerinnen und Bürger sind eingeladen\, den Liedern von zu Hause im Garten\, auf dem Balkon oder am offenen Fenster zu lauschen und sie mitzusingen. Dafür können die Texte der gespielten Lieder unter der genannten Internetadresse heruntergeladen werden. \nBleiben Sie zu Hause und bleiben Sie gesund! \nLiedblatt zum Herunterladen \n \n  \n  \n  \n  \n  \n  \n  \n  \n  \n  \nEin Ausschnitt der Abendmusik (Nun ruhen alle Wälder\, eg477\, GL101) ist als Video hier zu sehen:\n \n  \nDer Singegottesdienst vom Turm vom 29.03.20 kann hier noch einmal mitgefeiert werden: \n  \n 
URL:https://www.oiv-herrensohr.de/veranstaltung/abendlieder-vom-kirchturm/
LOCATION:Kreuzkirche Herrensohr\, Johannesstraße 33\, Saarbrücken\, Saarland\, 66125\, Deutschland
CATEGORIES:Konzert,Workshop
ATTACH;FMTTYPE=image/jpeg:https://www.oiv-herrensohr.de/wp-content/uploads/2020/04/DSC_0425-e1587793938488.jpg
ORGANIZER;CN="evangelische Kirchengemeinde Dudweiler/Herrensohr":MAILTO:info@kirchengemeinde-dudweiler.de
END:VEVENT
END:VCALENDAR